BEGIN:VCALENDAR
VERSION:2.0
PRODID:-//Language Point - ECPv5.2.1//NONSGML v1.0//EN
CALSCALE:GREGORIAN
METHOD:PUBLISH
X-WR-CALNAME:Language Point
X-ORIGINAL-URL:https://www.languagepoint.eu
X-WR-CALDESC:Eventi per Language Point
BEGIN:VTIMEZONE
TZID:Europe/Rome
BEGIN:DAYLIGHT
TZOFFSETFROM:+0100
TZOFFSETTO:+0200
TZNAME:CEST
DTSTART:20220327T010000
END:DAYLIGHT
BEGIN:STANDARD
TZOFFSETFROM:+0200
TZOFFSETTO:+0100
TZNAME:CET
DTSTART:20221030T010000
END:STANDARD
END:VTIMEZONE
BEGIN:VEVENT
DTSTART;VALUE=DATE:20221123
DTEND;VALUE=DATE:20221124
DTSTAMP:20260421T104538
CREATED:20221025T171229Z
LAST-MODIFIED:20221025T171253Z
UID:10335-1669161600-1669247999@www.languagepoint.eu
SUMMARY:CB _ BEC (Business English Certificate) B1 (Preliminary) - 23 November 2022
DESCRIPTION:CB _ BEC (Business English Certificate) B1 (Preliminary) – 23 November 2022 \nVenue IT 237 Language Point
URL:https://www.languagepoint.eu/event/cb-_-bec-business-english-certificate-b1-preliminary-23-november-2022/
END:VEVENT
END:VCALENDAR