BEGIN:VCALENDAR
VERSION:2.0
PRODID:-//Language Point - ECPv5.2.1//NONSGML v1.0//EN
CALSCALE:GREGORIAN
METHOD:PUBLISH
X-WR-CALNAME:Language Point
X-ORIGINAL-URL:https://www.languagepoint.eu
X-WR-CALDESC:Eventi per Language Point
BEGIN:VTIMEZONE
TZID:Europe/Rome
BEGIN:DAYLIGHT
TZOFFSETFROM:+0100
TZOFFSETTO:+0200
TZNAME:CEST
DTSTART:20200329T010000
END:DAYLIGHT
BEGIN:STANDARD
TZOFFSETFROM:+0200
TZOFFSETTO:+0100
TZNAME:CET
DTSTART:20201025T010000
END:STANDARD
END:VTIMEZONE
BEGIN:VEVENT
DTSTART;TZID=Europe/Rome:20201113T083000
DTEND;TZID=Europe/Rome:20201113T184000
DTSTAMP:20260425T013221
CREATED:20201110T091806Z
LAST-MODIFIED:20201113T152854Z
UID:4959-1605256200-1605292800@www.languagepoint.eu
SUMMARY:TESOL Italy’s 45th National Convention
DESCRIPTION:TESOL Italy’s 45th National Convention\nMore about the convention theme and subthemes: https://tesolitaly.org/conventions/convention-2020/enriching-leaning-and-teaching-theme-and-subthemes/
URL:https://www.languagepoint.eu/event/tesol-italys-45th-national-convention/
LOCATION:Online
END:VEVENT
BEGIN:VEVENT
DTSTART;TZID=Europe/Rome:20201114T080000
DTEND;TZID=Europe/Rome:20201114T190000
DTSTAMP:20260425T013221
CREATED:20201110T092428Z
LAST-MODIFIED:20201113T153047Z
UID:4964-1605340800-1605380400@www.languagepoint.eu
SUMMARY:TESOL Italy’s 45th National Convention
DESCRIPTION:TESOL Italy’s 45th National Convention\nMore about the convention theme and subthemes: https://tesolitaly.org/conventions/convention-2020/enriching-leaning-and-teaching-theme-and-subthemes/
URL:https://www.languagepoint.eu/event/tesol-italys-45th-national-convention-2/
LOCATION:Online
END:VEVENT
BEGIN:VEVENT
DTSTART;TZID=Europe/Rome:20201120T170000
DTEND;TZID=Europe/Rome:20201120T235900
DTSTAMP:20260425T013221
CREATED:20201103T134126Z
LAST-MODIFIED:20201113T153035Z
UID:4683-1605891600-1605916740@www.languagepoint.eu
SUMMARY:AISLi - WEBINAR GRATUITO Tell me more! Strategies to motivate teenagers to respond to texts In English.
DESCRIPTION:AISLi – WEBINAR GRATUITO Tell me more! Strategies to motivate teenagers to respond to texts In English.\nPer gli insegnanti della scuola statale (e non solo). Iscriviti al nostro prossimo webinar al seguente link: https://zoom.us/webinar/register/WN_bq6vQ_qmQZaWqCRumGuXFQ . La nostra ospite è Claudia Ferradas\, con ‘Tell me more! Strategies to motivate teenagers to respond to texts in English’. Ti aspettiamo! \n#ProudtobeAISLi #teachertraining
URL:https://www.languagepoint.eu/event/webinar-strategies-to-motivate-teenagers-to-respond-to-texts-in-english/
LOCATION:Online
END:VEVENT
END:VCALENDAR