BEGIN:VCALENDAR
VERSION:2.0
PRODID:-//Language Point - ECPv5.2.1//NONSGML v1.0//EN
CALSCALE:GREGORIAN
METHOD:PUBLISH
X-WR-CALNAME:Language Point
X-ORIGINAL-URL:https://www.languagepoint.eu
X-WR-CALDESC:Eventi per Language Point
BEGIN:VTIMEZONE
TZID:Europe/Rome
BEGIN:DAYLIGHT
TZOFFSETFROM:+0100
TZOFFSETTO:+0200
TZNAME:CEST
DTSTART:20210328T010000
END:DAYLIGHT
BEGIN:STANDARD
TZOFFSETFROM:+0200
TZOFFSETTO:+0100
TZNAME:CET
DTSTART:20211031T010000
END:STANDARD
END:VTIMEZONE
BEGIN:VEVENT
DTSTART;VALUE=DATE:20210303
DTEND;VALUE=DATE:20210304
DTSTAMP:20260424T191117
CREATED:20210227T081714Z
LAST-MODIFIED:20210227T081714Z
UID:7092-1614729600-1614815999@www.languagepoint.eu
SUMMARY:B2 First (FCE) - 3 March 2021
DESCRIPTION:Cambridge Assessment English B2 First (FCE) – date: 3 March 2021. \nComputer-based session. \nVenue: IT237\, Language Point\, Milan\, Italy.
URL:https://www.languagepoint.eu/event/fce-03032021-lp/
LOCATION:Language Point\, Piazza Aspromonte\, 35\, Milano\, 20131\, Italia
END:VEVENT
BEGIN:VEVENT
DTSTART;VALUE=DATE:20210306
DTEND;VALUE=DATE:20210307
DTSTAMP:20260424T191117
CREATED:20210227T083049Z
LAST-MODIFIED:20210304T162828Z
UID:7094-1614988800-1615075199@www.languagepoint.eu
SUMMARY:B1 Preliminary (PET) - 6 March 2021 | *Esame Posticipato
DESCRIPTION:Cambridge Assessment English B1 Preliminary – date: 6 March 2021. \nComputer-based session. \nVenue: IT237\, Language Point\, Milan\, Italy.
URL:https://www.languagepoint.eu/event/pet-06032021-lp/
LOCATION:Language Point\, Piazza Aspromonte\, 35\, Milano\, 20131\, Italia
END:VEVENT
BEGIN:VEVENT
DTSTART;VALUE=DATE:20210306
DTEND;VALUE=DATE:20210307
DTSTAMP:20260424T191117
CREATED:20210227T085133Z
LAST-MODIFIED:20210304T162928Z
UID:7129-1614988800-1615075199@www.languagepoint.eu
SUMMARY:Occupational English Test (OET) - 6 March 2021 | *Esame Posticipato
DESCRIPTION:Occupational English Test (OET) – date: 6 March 2021. \nPaper-based session. \nVenue: IT0004\, Language Point\, Milan\, Italy.
URL:https://www.languagepoint.eu/event/oet-06032021-lp/
LOCATION:Language Point\, Piazza Aspromonte\, 35\, Milano\, 20131\, Italia
END:VEVENT
BEGIN:VEVENT
DTSTART;VALUE=DATE:20210309
DTEND;VALUE=DATE:20210310
DTSTAMP:20260424T191117
CREATED:20210227T083156Z
LAST-MODIFIED:20210304T162933Z
UID:7097-1615248000-1615334399@www.languagepoint.eu
SUMMARY:B2 First (FCE) - 9 March 2021 | *Esame Posticipato
DESCRIPTION:Cambridge Assessment English B2 First (FCE) – date: 9 March 2021. \nComputer-based session. \nVenue: IT237\, Language Point\, Milan\, Italy.
URL:https://www.languagepoint.eu/event/fce-09032021-lp/
LOCATION:Language Point\, Piazza Aspromonte\, 35\, Milano\, 20131\, Italia
END:VEVENT
BEGIN:VEVENT
DTSTART;VALUE=DATE:20210311
DTEND;VALUE=DATE:20210312
DTSTAMP:20260424T191117
CREATED:20210227T083253Z
LAST-MODIFIED:20210304T162937Z
UID:7099-1615420800-1615507199@www.languagepoint.eu
SUMMARY:B2 First FS (FCE FS) - 11 March 2021 | *Esame Posticipato
DESCRIPTION:Cambridge Assessment English B2 First (FCE FS) – date: 11 March 2021. \nComputer-based session. \nVenue: IT237\, Language Point\, Milan\, Italy.
URL:https://www.languagepoint.eu/event/fcefs-11032021-lp/
LOCATION:Language Point\, Piazza Aspromonte\, 35\, Milano\, 20131\, Italia
END:VEVENT
BEGIN:VEVENT
DTSTART;VALUE=DATE:20210312
DTEND;VALUE=DATE:20210313
DTSTAMP:20260424T191117
CREATED:20210227T083355Z
LAST-MODIFIED:20210304T162940Z
UID:7101-1615507200-1615593599@www.languagepoint.eu
SUMMARY:C1 Advanced (CAE) - 12 March 2021 | *Esame Posticipato
DESCRIPTION:Cambridge Assessment English C1 Advanced (CAE) – date: 12 March 2021. \nComputer-based session. \nVenue: IT237\, Language Point\, Milan\, Italy.
URL:https://www.languagepoint.eu/event/cae-12032021-lp/
LOCATION:Language Point\, Piazza Aspromonte\, 35\, Milano\, 20131\, Italia
END:VEVENT
BEGIN:VEVENT
DTSTART;TZID=Europe/Rome:20210312T180000
DTEND;TZID=Europe/Rome:20210312T210000
DTSTAMP:20260424T191117
CREATED:20210212T100853Z
LAST-MODIFIED:20210212T100853Z
UID:6915-1615572000-1615582800@www.languagepoint.eu
SUMMARY:AISLi webinar - How to Empower Learners Through the Sustainable Development Goals
DESCRIPTION:AISLi – Associazione Italiana Scuole di Lingue – è lieta di invitarvi a partecipare al webinar gratuito che si terrà Venerdì 12 Marzo 2021\, alle ore 18:00.\nIl Webinar sarà tenuto dalla nota insegnante e formatrice Carol Read. \n  \n“Lavorando con gli obiettivi di sviluppo sostenibile delle Nazioni Unite\, gli studenti diventano comunicatori fiduciosi e sono sfidati a pensare in modo critico e creativo. Inoltre\, sviluppano anche abilità e atteggiamenti sociali che sono alla base di una cittadinanza globale responsabile. Questa sessione esplora idee pratiche\, adatte agli studenti a partire dalla scuola primaria\, che integrano abilità linguistiche e di pensiero\, valorizzano l’educazione e la comprensione interculturale\, oltre a promuovere l’apprendimento autodiretto.” \n  \nQui ci si può iscrivere al webinar: https://www.eventbrite.it/e/biglietti-how-to-empower-learners-through-the-sustainable-development-goals-137407701133
URL:https://www.languagepoint.eu/event/aisli-webinar-carol-read-120321/
LOCATION:Online
END:VEVENT
BEGIN:VEVENT
DTSTART;VALUE=DATE:20210313
DTEND;VALUE=DATE:20210314
DTSTAMP:20260424T191117
CREATED:20210227T083541Z
LAST-MODIFIED:20210304T162943Z
UID:7103-1615593600-1615679999@www.languagepoint.eu
SUMMARY:C1 Advanced (CAE) - 13 March 2021 | *Esame Posticipato
DESCRIPTION:Cambridge Assessment English C1 Advanced (CAE) – date: 13 March 2021. \nPaper-based session. \nVenue: IT237\, Language Point\, Milan\, Italy.
URL:https://www.languagepoint.eu/event/cae-13032021-lp/
LOCATION:Language Point\, Piazza Aspromonte\, 35\, Milano\, 20131\, Italia
END:VEVENT
BEGIN:VEVENT
DTSTART;VALUE=DATE:20210317
DTEND;VALUE=DATE:20210318
DTSTAMP:20260424T191117
CREATED:20210227T083638Z
LAST-MODIFIED:20210227T083638Z
UID:7105-1615939200-1616025599@www.languagepoint.eu
SUMMARY:A2 Key (KET) - 17 March 2021
DESCRIPTION:Cambridge Assessment English A2 Key (KET) – date: 17 March 2021. \nComputer-based session. \nVenue: IT237\, Language Point\, Milan\, Italy.
URL:https://www.languagepoint.eu/event/ket-17032021-lp/
LOCATION:Language Point\, Piazza Aspromonte\, 35\, Milano\, 20131\, Italia
END:VEVENT
BEGIN:VEVENT
DTSTART;VALUE=DATE:20210317
DTEND;VALUE=DATE:20210318
DTSTAMP:20260424T191117
CREATED:20210227T083731Z
LAST-MODIFIED:20210227T083731Z
UID:7107-1615939200-1616025599@www.languagepoint.eu
SUMMARY:B1 Preliminary (PET) - 17 March 2021
DESCRIPTION:Cambridge Assessment English B1 Preliminary (PET)  – date: 17 March 2021. \nComputer-based session. \nVenue: IT237\, Language Point\, Milan\, Italy.
URL:https://www.languagepoint.eu/event/pet-17032021-lp/
LOCATION:Language Point\, Piazza Aspromonte\, 35\, Milano\, 20131\, Italia
END:VEVENT
BEGIN:VEVENT
DTSTART;VALUE=DATE:20210318
DTEND;VALUE=DATE:20210319
DTSTAMP:20260424T191117
CREATED:20210227T083838Z
LAST-MODIFIED:20210227T083838Z
UID:7109-1616025600-1616111999@www.languagepoint.eu
SUMMARY:C1 Business Higher (BEC H) - 18 March 2021
DESCRIPTION:Cambridge Assessment English C1 Business Higher  – date: 18 March 2021. \nComputer-based session. \nVenue: IT237\, Language Point\, Milan\, Italy.
URL:https://www.languagepoint.eu/event/bech-18032021-lp/
LOCATION:Language Point\, Piazza Aspromonte\, 35\, Milano\, 20131\, Italia
END:VEVENT
BEGIN:VEVENT
DTSTART;VALUE=DATE:20210319
DTEND;VALUE=DATE:20210320
DTSTAMP:20260424T191117
CREATED:20210227T083952Z
LAST-MODIFIED:20210227T083952Z
UID:7111-1616112000-1616198399@www.languagepoint.eu
SUMMARY:B1 Business Preliminary (BEC P) - 19 March 2021
DESCRIPTION:Cambridge Assessment English B1 Business Preliminary (BEC P) – date: 19 March 2021. \nComputer-based session. \nVenue: IT237\, Language Point\, Milan\, Italy.
URL:https://www.languagepoint.eu/event/becp-19032021-lp/
LOCATION:Language Point\, Piazza Aspromonte\, 35\, Milano\, 20131\, Italia
END:VEVENT
BEGIN:VEVENT
DTSTART;VALUE=DATE:20210319
DTEND;VALUE=DATE:20210320
DTSTAMP:20260424T191117
CREATED:20210227T084043Z
LAST-MODIFIED:20210227T084043Z
UID:7113-1616112000-1616198399@www.languagepoint.eu
SUMMARY:B2 Business Vantage (BEC V) - 19 March 2021
DESCRIPTION:Cambridge Assessment English B2 Business Vantage (BEC V) – date: 19 March 2021. \nComputer-based session. \nVenue: IT237\, Language Point\, Milan\, Italy.
URL:https://www.languagepoint.eu/event/becv-19032021-lp/
LOCATION:Language Point\, Piazza Aspromonte\, 35\, Milano\, 20131\, Italia
END:VEVENT
BEGIN:VEVENT
DTSTART;VALUE=DATE:20210320
DTEND;VALUE=DATE:20210321
DTSTAMP:20260424T191117
CREATED:20210227T084145Z
LAST-MODIFIED:20210227T084145Z
UID:7115-1616198400-1616284799@www.languagepoint.eu
SUMMARY:B2 First (FCE) - 20 March 2021
DESCRIPTION:Cambridge Assessment English B2 First (FCE) – date: 20 March 2021. \nComputer-based session. \nVenue: IT237\, Language Point\, Milan\, Italy.
URL:https://www.languagepoint.eu/event/fce-20032021-lp/
LOCATION:Language Point\, Piazza Aspromonte\, 35\, Milano\, 20131\, Italia
END:VEVENT
BEGIN:VEVENT
DTSTART;VALUE=DATE:20210320
DTEND;VALUE=DATE:20210321
DTSTAMP:20260424T191117
CREATED:20210227T085232Z
LAST-MODIFIED:20210227T085418Z
UID:7131-1616198400-1616284799@www.languagepoint.eu
SUMMARY:Occupational English Test (OET) - 20 March 2021
DESCRIPTION:Occupational English Test (OET) – date: 20 March 2021. \nPaper-based session. \nVenue: IT0004\, Language Point\, Milan\, Italy.
URL:https://www.languagepoint.eu/event/oet-20032021-lp/
LOCATION:Language Point\, Piazza Aspromonte\, 35\, Milano\, 20131\, Italia
END:VEVENT
BEGIN:VEVENT
DTSTART;VALUE=DATE:20210324
DTEND;VALUE=DATE:20210325
DTSTAMP:20260424T191117
CREATED:20210227T084242Z
LAST-MODIFIED:20210227T084242Z
UID:7118-1616544000-1616630399@www.languagepoint.eu
SUMMARY:A2 Key (KET) - 24 March 2021
DESCRIPTION:Cambridge Assessment English A2 Key (KET) – date: 24 March 2021. \nComputer-based session. \nVenue: IT237\, Language Point\, Milan\, Italy.
URL:https://www.languagepoint.eu/event/ket-24032021-lp/
LOCATION:Language Point\, Piazza Aspromonte\, 35\, Milano\, 20131\, Italia
END:VEVENT
BEGIN:VEVENT
DTSTART;VALUE=DATE:20210324
DTEND;VALUE=DATE:20210325
DTSTAMP:20260424T191117
CREATED:20210227T084337Z
LAST-MODIFIED:20210227T084337Z
UID:7121-1616544000-1616630399@www.languagepoint.eu
SUMMARY:B1 Preliminary (PET) - 24 March 2021
DESCRIPTION:Cambridge Assessment English B1 Preliminary (PET) – date: 24 March 2021. \nComputer-based session. \nVenue: IT237\, Language Point\, Milan\, Italy.
URL:https://www.languagepoint.eu/event/pet-24032021-lp/
LOCATION:Language Point\, Piazza Aspromonte\, 35\, Milano\, 20131\, Italia
END:VEVENT
BEGIN:VEVENT
DTSTART;VALUE=DATE:20210325
DTEND;VALUE=DATE:20210326
DTSTAMP:20260424T191117
CREATED:20210227T084619Z
LAST-MODIFIED:20210227T084619Z
UID:7123-1616630400-1616716799@www.languagepoint.eu
SUMMARY:YLE: Pre-A1 Starters\, A1 Movers\, A2 Flyers
DESCRIPTION:Cambridge Assessment English Young Learners of English (YLE: Pre-A1 Starters\, A1 Movers\, A2 Flyers) – date: 25 March 2021. \nPaper-based session. \nVenue: IT237\, Language Point\, Milan\, Italy.
URL:https://www.languagepoint.eu/event/ylesmv-25032021-lp/
LOCATION:Language Point\, Piazza Aspromonte\, 35\, Milano\, 20131\, Italia
END:VEVENT
BEGIN:VEVENT
DTSTART;VALUE=DATE:20210326
DTEND;VALUE=DATE:20210327
DTSTAMP:20260424T191117
CREATED:20210227T084912Z
LAST-MODIFIED:20210227T084912Z
UID:7127-1616716800-1616803199@www.languagepoint.eu
SUMMARY:Linguaskill\, General English - 26 March 2021
DESCRIPTION:Linguaskill – General English version – date: 26 March 2021. \nComputer-based session. \nVenue: IT237\, Language Point\, Milan\, Italy.
URL:https://www.languagepoint.eu/event/linguaskill-general-english-260221-2/
LOCATION:Language Point\, Piazza Aspromonte\, 35\, Milano\, 20131\, Italia
END:VEVENT
BEGIN:VEVENT
DTSTART;VALUE=DATE:20210327
DTEND;VALUE=DATE:20210328
DTSTAMP:20260424T191117
CREATED:20210227T084738Z
LAST-MODIFIED:20210227T084738Z
UID:7125-1616803200-1616889599@www.languagepoint.eu
SUMMARY:B2 First (FCE FS) - 27 March 2021
DESCRIPTION:Cambridge Assessment English B2 First (FCE FS) – date: 27 March 2021. \nComputer-based session. \nVenue: IT237\, Language Point\, Milan\, Italy.
URL:https://www.languagepoint.eu/event/fcefs-27032021-lp/
LOCATION:Language Point\, Piazza Aspromonte\, 35\, Milano\, 20131\, Italia
END:VEVENT
END:VCALENDAR