BEGIN:VCALENDAR
VERSION:2.0
PRODID:-//Language Point - ECPv5.2.1//NONSGML v1.0//EN
CALSCALE:GREGORIAN
METHOD:PUBLISH
X-WR-CALNAME:Language Point
X-ORIGINAL-URL:https://www.languagepoint.eu
X-WR-CALDESC:Eventi per Language Point
BEGIN:VTIMEZONE
TZID:Europe/Rome
BEGIN:DAYLIGHT
TZOFFSETFROM:+0100
TZOFFSETTO:+0200
TZNAME:CEST
DTSTART:20210328T010000
END:DAYLIGHT
BEGIN:STANDARD
TZOFFSETFROM:+0200
TZOFFSETTO:+0100
TZNAME:CET
DTSTART:20211031T010000
END:STANDARD
END:VTIMEZONE
BEGIN:VEVENT
DTSTART;VALUE=DATE:20210728
DTEND;VALUE=DATE:20210729
DTSTAMP:20260424T113717
CREATED:20210719T135211Z
LAST-MODIFIED:20210719T135211Z
UID:8439-1627430400-1627516799@www.languagepoint.eu
SUMMARY:B2 First (FCE FS) - 28 July 2021
DESCRIPTION:Cambridge Assessment English B2 First (FCE FS) – date: 28 July 2021. \nComputer-based session. \nVenue: IT237\, Language Point\, Milan\, Italy.
URL:https://www.languagepoint.eu/event/fcefscb-28072021-lp/
LOCATION:Language Point\, Piazza Aspromonte\, 35\, Milano\, 20131\, Italia
END:VEVENT
BEGIN:VEVENT
DTSTART;VALUE=DATE:20210730
DTEND;VALUE=DATE:20210731
DTSTAMP:20260424T113717
CREATED:20210719T135313Z
LAST-MODIFIED:20210719T135313Z
UID:8441-1627603200-1627689599@www.languagepoint.eu
SUMMARY:B2 First (FCE) - 30 July 2021
DESCRIPTION:Cambridge Assessment English B2 First (FCE) – date: 30 July 2021. \nComputer-based session. \nVenue: IT237\, Language Point\, Milan\, Italy.
URL:https://www.languagepoint.eu/event/fce-30072021-lp/
LOCATION:Language Point\, Piazza Aspromonte\, 35\, Milano\, 20131\, Italia
END:VEVENT
BEGIN:VEVENT
DTSTART;VALUE=DATE:20210730
DTEND;VALUE=DATE:20210731
DTSTAMP:20260424T113717
CREATED:20210719T135416Z
LAST-MODIFIED:20210719T135416Z
UID:8443-1627603200-1627689599@www.languagepoint.eu
SUMMARY:C1 Advanced (CAE) - 30 July 2021
DESCRIPTION:Cambridge Assessment English C1 Advanced (CAE) – date: 30 July 2021. \nComputer-based session. \nVenue: IT237\, Language Point\, Milan\, Italy.
URL:https://www.languagepoint.eu/event/cae-30072021-lp/
LOCATION:Language Point\, Piazza Aspromonte\, 35\, Milano\, 20131\, Italia
END:VEVENT
BEGIN:VEVENT
DTSTART;VALUE=DATE:20210827
DTEND;VALUE=DATE:20210828
DTSTAMP:20260424T113717
CREATED:20210719T135617Z
LAST-MODIFIED:20210719T135617Z
UID:8445-1630022400-1630108799@www.languagepoint.eu
SUMMARY:C1 Advanced (CAE) - 27 August 2021
DESCRIPTION:Cambridge Assessment English C1 Advanced (CAE) – date: 27 August 2021. \nPaper-based session. \nVenue: IT237\, Language Point\, Milan\, Italy.
URL:https://www.languagepoint.eu/event/cae-27082021-lp/
LOCATION:Language Point\, Piazza Aspromonte\, 35\, Milano\, 20131\, Italia
END:VEVENT
BEGIN:VEVENT
DTSTART;VALUE=DATE:20210828
DTEND;VALUE=DATE:20210829
DTSTAMP:20260424T113717
CREATED:20210719T142335Z
LAST-MODIFIED:20210719T142335Z
UID:8474-1630108800-1630195199@www.languagepoint.eu
SUMMARY:Occupational English Test (OET) - 28 August 2021
DESCRIPTION:Occupational English Test (OET) – date: 28 August 2021. \nPaper-based session. \nVenue: IT0004\, Language Point\, Milan\, Italy.
URL:https://www.languagepoint.eu/event/oet-28082021-lp/
END:VEVENT
BEGIN:VEVENT
DTSTART;VALUE=DATE:20210904
DTEND;VALUE=DATE:20210905
DTSTAMP:20260424T113717
CREATED:20210719T140841Z
LAST-MODIFIED:20210719T140841Z
UID:8447-1630713600-1630799999@www.languagepoint.eu
SUMMARY:B1 Business Preliminary (BEC P) - 4 September 2021
DESCRIPTION:Cambridge Assessment English B1 Business Preliminary (BEC P) – date: 4 September 2021. \nComputer-based session. \nVenue: IT237\, Language Point\, Milan\, Italy.
URL:https://www.languagepoint.eu/event/becp-04092021-lp/
LOCATION:Language Point\, Piazza Aspromonte\, 35\, Milano\, 20131\, Italia
END:VEVENT
BEGIN:VEVENT
DTSTART;VALUE=DATE:20210904
DTEND;VALUE=DATE:20210905
DTSTAMP:20260424T113717
CREATED:20210719T140932Z
LAST-MODIFIED:20210719T140932Z
UID:8450-1630713600-1630799999@www.languagepoint.eu
SUMMARY:B2 Business Vantage (BEC V) - 4 September 2021
DESCRIPTION:Cambridge Assessment English B2 Business Vantage (BEC V) – date: 4 September 2021. \nComputer-based session. \nVenue: IT237\, Language Point\, Milan\, Italy.
URL:https://www.languagepoint.eu/event/becv-04092021-lp/
END:VEVENT
BEGIN:VEVENT
DTSTART;VALUE=DATE:20210904
DTEND;VALUE=DATE:20210905
DTSTAMP:20260424T113717
CREATED:20210719T141031Z
LAST-MODIFIED:20210719T141031Z
UID:8452-1630713600-1630799999@www.languagepoint.eu
SUMMARY:YLE: Pre-A1 Starters\, A1 Movers\, A2 Flyers 4 September 2021
DESCRIPTION:Cambridge Assessment English Young Learners of English (YLE: Pre-A1 Starters\, A1 Movers\, A2 Flyers) – date: 4 September 2021. \nPaper-based session. \nVenue: IT237\, Language Point\, Milan\, Italy.
URL:https://www.languagepoint.eu/event/ylesmv-04092021-lp/
END:VEVENT
END:VCALENDAR