BEGIN:VCALENDAR
VERSION:2.0
PRODID:-//Language Point - ECPv5.2.1//NONSGML v1.0//EN
CALSCALE:GREGORIAN
METHOD:PUBLISH
X-WR-CALNAME:Language Point
X-ORIGINAL-URL:https://www.languagepoint.eu
X-WR-CALDESC:Eventi per Language Point
BEGIN:VTIMEZONE
TZID:Europe/Rome
BEGIN:DAYLIGHT
TZOFFSETFROM:+0100
TZOFFSETTO:+0200
TZNAME:CEST
DTSTART:20210328T010000
END:DAYLIGHT
BEGIN:STANDARD
TZOFFSETFROM:+0200
TZOFFSETTO:+0100
TZNAME:CET
DTSTART:20211031T010000
END:STANDARD
END:VTIMEZONE
BEGIN:VEVENT
DTSTART;VALUE=DATE:20210904
DTEND;VALUE=DATE:20210905
DTSTAMP:20260424T102258
CREATED:20210719T140841Z
LAST-MODIFIED:20210719T140841Z
UID:8447-1630713600-1630799999@www.languagepoint.eu
SUMMARY:B1 Business Preliminary (BEC P) - 4 September 2021
DESCRIPTION:Cambridge Assessment English B1 Business Preliminary (BEC P) – date: 4 September 2021. \nComputer-based session. \nVenue: IT237\, Language Point\, Milan\, Italy.
URL:https://www.languagepoint.eu/event/becp-04092021-lp/
LOCATION:Language Point\, Piazza Aspromonte\, 35\, Milano\, 20131\, Italia
END:VEVENT
BEGIN:VEVENT
DTSTART;VALUE=DATE:20210904
DTEND;VALUE=DATE:20210905
DTSTAMP:20260424T102258
CREATED:20210719T140932Z
LAST-MODIFIED:20210719T140932Z
UID:8450-1630713600-1630799999@www.languagepoint.eu
SUMMARY:B2 Business Vantage (BEC V) - 4 September 2021
DESCRIPTION:Cambridge Assessment English B2 Business Vantage (BEC V) – date: 4 September 2021. \nComputer-based session. \nVenue: IT237\, Language Point\, Milan\, Italy.
URL:https://www.languagepoint.eu/event/becv-04092021-lp/
END:VEVENT
BEGIN:VEVENT
DTSTART;VALUE=DATE:20210904
DTEND;VALUE=DATE:20210905
DTSTAMP:20260424T102258
CREATED:20210719T141031Z
LAST-MODIFIED:20210719T141031Z
UID:8452-1630713600-1630799999@www.languagepoint.eu
SUMMARY:YLE: Pre-A1 Starters\, A1 Movers\, A2 Flyers 4 September 2021
DESCRIPTION:Cambridge Assessment English Young Learners of English (YLE: Pre-A1 Starters\, A1 Movers\, A2 Flyers) – date: 4 September 2021. \nPaper-based session. \nVenue: IT237\, Language Point\, Milan\, Italy.
URL:https://www.languagepoint.eu/event/ylesmv-04092021-lp/
END:VEVENT
BEGIN:VEVENT
DTSTART;VALUE=DATE:20210909
DTEND;VALUE=DATE:20210910
DTSTAMP:20260424T102258
CREATED:20210719T141154Z
LAST-MODIFIED:20210719T141154Z
UID:8454-1631145600-1631231999@www.languagepoint.eu
SUMMARY:A2 Key (KET) - 9 September 2021
DESCRIPTION:Cambridge Assessment English A2 Key (KET) – date: 9 September 2021. \nComputer-based session. \nVenue: IT237\, Language Point\, Milan\, Italy.
URL:https://www.languagepoint.eu/event/ketfs-09092021-lp/
END:VEVENT
BEGIN:VEVENT
DTSTART;VALUE=DATE:20210909
DTEND;VALUE=DATE:20210910
DTSTAMP:20260424T102258
CREATED:20210719T141250Z
LAST-MODIFIED:20210719T141250Z
UID:8457-1631145600-1631231999@www.languagepoint.eu
SUMMARY:B1 Preliminary (PET) - 9 September 2021
DESCRIPTION:Cambridge Assessment English B1 Preliminary (PET) – date: 9 September 2021. \nComputer-based session. \nVenue: IT237\, Language Point\, Milan\, Italy.
URL:https://www.languagepoint.eu/event/petcb-09092021-lp/
END:VEVENT
BEGIN:VEVENT
DTSTART;VALUE=DATE:20210911
DTEND;VALUE=DATE:20210912
DTSTAMP:20260424T102258
CREATED:20210719T141354Z
LAST-MODIFIED:20210719T141354Z
UID:8459-1631318400-1631404799@www.languagepoint.eu
SUMMARY:C1 Advanced (CAE) - 11 September 2021
DESCRIPTION:Cambridge Assessment English C1 Advanced (CAE) – date: 11 September 2021. \nPaper-based session. \nVenue: IT237\, Language Point\, Milan\, Italy.
URL:https://www.languagepoint.eu/event/caecb-11092021-lp/
LOCATION:Language Point\, Piazza Aspromonte\, 35\, Milano\, 20131\, Italia
END:VEVENT
BEGIN:VEVENT
DTSTART;VALUE=DATE:20210911
DTEND;VALUE=DATE:20210912
DTSTAMP:20260424T102258
CREATED:20210719T141457Z
LAST-MODIFIED:20210719T141457Z
UID:8461-1631318400-1631404799@www.languagepoint.eu
SUMMARY:B1 Business Preliminary (BEC P) - 11 September 2021
DESCRIPTION:Cambridge Assessment English B1 Business Preliminary (BEC P) – date: 11 September 2021. \nComputer-based session. \nVenue: IT237\, Language Point\, Milan\, Italy.
URL:https://www.languagepoint.eu/event/becp-11092021-lp/
END:VEVENT
BEGIN:VEVENT
DTSTART;VALUE=DATE:20210911
DTEND;VALUE=DATE:20210912
DTSTAMP:20260424T102258
CREATED:20210719T142528Z
LAST-MODIFIED:20210719T142528Z
UID:8477-1631318400-1631404799@www.languagepoint.eu
SUMMARY:Occupational English Test (OET) - 11 September 2021
DESCRIPTION:Occupational English Test (OET) – date: 11 September 2021. \nPaper-based session. \nVenue: IT0004\, Language Point\, Milan\, Italy.
URL:https://www.languagepoint.eu/event/oet-11092021-lp/
END:VEVENT
BEGIN:VEVENT
DTSTART;VALUE=DATE:20210917
DTEND;VALUE=DATE:20210918
DTSTAMP:20260424T102258
CREATED:20210719T141717Z
LAST-MODIFIED:20210719T141717Z
UID:8463-1631836800-1631923199@www.languagepoint.eu
SUMMARY:A2 Key (KET FS) - 17 September 2021
DESCRIPTION:Cambridge Assessment English A2 Key (KET FS) – date: 17 September 2021. \nComputer-based session. \nVenue: IT237\, Language Point\, Milan\, Italy.
URL:https://www.languagepoint.eu/event/ketfs-17092021-lp/
END:VEVENT
BEGIN:VEVENT
DTSTART;VALUE=DATE:20210917
DTEND;VALUE=DATE:20210918
DTSTAMP:20260424T102258
CREATED:20210719T141823Z
LAST-MODIFIED:20210719T141823Z
UID:8465-1631836800-1631923199@www.languagepoint.eu
SUMMARY:B1 Preliminary (PET FS) - 17 September 2021
DESCRIPTION:Cambridge Assessment English B1 Preliminary (PET FS) – date: 17 September 2021. \nComputer-based session. \nVenue: IT237\, Language Point\, Milan\, Italy.
URL:https://www.languagepoint.eu/event/petcb-17092021-lp/
END:VEVENT
BEGIN:VEVENT
DTSTART;VALUE=DATE:20210918
DTEND;VALUE=DATE:20210919
DTSTAMP:20260424T102258
CREATED:20210719T141913Z
LAST-MODIFIED:20210719T141913Z
UID:8468-1631923200-1632009599@www.languagepoint.eu
SUMMARY:C1 Advanced (CAE) - 18 September 2021
DESCRIPTION:Cambridge Assessment English C1 Advanced (CAE) – date: 18 September 2021. \nComputer-based session. \nVenue: IT237\, Language Point\, Milan\, Italy.
URL:https://www.languagepoint.eu/event/caecb-18092021-lp/
END:VEVENT
BEGIN:VEVENT
DTSTART;VALUE=DATE:20210918
DTEND;VALUE=DATE:20210919
DTSTAMP:20260424T102258
CREATED:20210719T142036Z
LAST-MODIFIED:20210719T142036Z
UID:8470-1631923200-1632009599@www.languagepoint.eu
SUMMARY:B2 First (FCE FS) - 18 September 2021
DESCRIPTION:Cambridge Assessment English B2 First (FCE FS) – date: 18 September 2021. \nPaper-based session. \nVenue: IT237\, Language Point\, Milan\, Italy.
URL:https://www.languagepoint.eu/event/fcefs-18092021-lp/
END:VEVENT
BEGIN:VEVENT
DTSTART;VALUE=DATE:20210924
DTEND;VALUE=DATE:20210925
DTSTAMP:20260424T102258
CREATED:20210719T142159Z
LAST-MODIFIED:20210719T142159Z
UID:8472-1632441600-1632527999@www.languagepoint.eu
SUMMARY:B2 First (FCE) - 24 September 2021
DESCRIPTION:Cambridge Assessment English B2 First (FCE) – date: 24 September 2021. \nComputer-based session. \nVenue: IT237\, Language Point\, Milan\, Italy.
URL:https://www.languagepoint.eu/event/fcefscb-24092021-lp/
END:VEVENT
BEGIN:VEVENT
DTSTART;VALUE=DATE:20210925
DTEND;VALUE=DATE:20210926
DTSTAMP:20260424T102258
CREATED:20210719T142519Z
LAST-MODIFIED:20210719T142519Z
UID:8476-1632528000-1632614399@www.languagepoint.eu
SUMMARY:Occupational English Test (OET) - 25 September 2021
DESCRIPTION:Occupational English Test (OET) – date: 25 September 2021. \nPaper-based session. \nVenue: IT0004\, Language Point\, Milan\, Italy.
URL:https://www.languagepoint.eu/event/oet-25092021-lp/
END:VEVENT
BEGIN:VEVENT
DTSTART;VALUE=DATE:20211002
DTEND;VALUE=DATE:20211003
DTSTAMP:20260424T102258
CREATED:20210918T094603Z
LAST-MODIFIED:20210918T094603Z
UID:8946-1633132800-1633219199@www.languagepoint.eu
SUMMARY:B2 First FS (FCE FS) - 2 October 2021
DESCRIPTION:Cambridge Assessment English B2 First FS (FCE FS) – date: 2 October 2021. \nComputer-based session. \nVenue: IT237\, Language Point\, Milan\, Italy.
URL:https://www.languagepoint.eu/event/fcefscb-02102021-lp/
LOCATION:Language Point\, Piazza Aspromonte\, 35\, Milano\, 20131\, Italia
END:VEVENT
END:VCALENDAR