BEGIN:VCALENDAR
VERSION:2.0
PRODID:-//Language Point - ECPv5.2.1//NONSGML v1.0//EN
CALSCALE:GREGORIAN
METHOD:PUBLISH
X-WR-CALNAME:Language Point
X-ORIGINAL-URL:https://www.languagepoint.eu
X-WR-CALDESC:Eventi per Language Point
BEGIN:VTIMEZONE
TZID:Europe/Rome
BEGIN:DAYLIGHT
TZOFFSETFROM:+0100
TZOFFSETTO:+0200
TZNAME:CEST
DTSTART:20210328T010000
END:DAYLIGHT
BEGIN:STANDARD
TZOFFSETFROM:+0200
TZOFFSETTO:+0100
TZNAME:CET
DTSTART:20211031T010000
END:STANDARD
END:VTIMEZONE
BEGIN:VEVENT
DTSTART;VALUE=DATE:20211002
DTEND;VALUE=DATE:20211003
DTSTAMP:20260424T084408
CREATED:20210918T094603Z
LAST-MODIFIED:20210918T094603Z
UID:8946-1633132800-1633219199@www.languagepoint.eu
SUMMARY:B2 First FS (FCE FS) - 2 October 2021
DESCRIPTION:Cambridge Assessment English B2 First FS (FCE FS) – date: 2 October 2021. \nComputer-based session. \nVenue: IT237\, Language Point\, Milan\, Italy.
URL:https://www.languagepoint.eu/event/fcefscb-02102021-lp/
LOCATION:Language Point\, Piazza Aspromonte\, 35\, Milano\, 20131\, Italia
END:VEVENT
BEGIN:VEVENT
DTSTART;VALUE=DATE:20211009
DTEND;VALUE=DATE:20211010
DTSTAMP:20260424T084408
CREATED:20210918T095456Z
LAST-MODIFIED:20210918T095456Z
UID:8954-1633737600-1633823999@www.languagepoint.eu
SUMMARY:B1 Preliminary (PET) - 9 October 2021
DESCRIPTION:Cambridge Assessment English B1 Preliminary (PET) – date: 9 October 2021. \nPaper-based session. \nVenue: IT237\, Language Point\, Milan\, Italy.
URL:https://www.languagepoint.eu/event/b1-preliminary-pet-9-october-2021/
LOCATION:Language Point\, Piazza Aspromonte\, 35\, Milano\, 20131\, Italia
END:VEVENT
BEGIN:VEVENT
DTSTART;VALUE=DATE:20211009
DTEND;VALUE=DATE:20211010
DTSTAMP:20260424T084408
CREATED:20210918T100721Z
LAST-MODIFIED:20210918T100721Z
UID:8959-1633737600-1633823999@www.languagepoint.eu
SUMMARY:B1 Business Preliminary (BEC P) - 9 October 2021
DESCRIPTION:Cambridge Assessment English B1 Business Preliminary (BEC P) – date: 9 October 2021. \nComputer-based session. \nVenue: IT237\, Language Point\, Milan\, Italy.
URL:https://www.languagepoint.eu/event/becp-09102021-lp/
LOCATION:Language Point\, Piazza Aspromonte\, 35\, Milano\, 20131\, Italia
END:VEVENT
BEGIN:VEVENT
DTSTART;VALUE=DATE:20211009
DTEND;VALUE=DATE:20211010
DTSTAMP:20260424T084408
CREATED:20210918T110109Z
LAST-MODIFIED:20210918T110109Z
UID:8971-1633737600-1633823999@www.languagepoint.eu
SUMMARY:Occupational English Test (OET) - 9 October 2021
DESCRIPTION:Occupational English Test (OET) – date: 9 October 2021. \nPaper-based session. \nVenue: IT0004\, Language Point\, Milan\, Italy.
URL:https://www.languagepoint.eu/event/oet-09102021-lp/
END:VEVENT
BEGIN:VEVENT
DTSTART;VALUE=DATE:20211012
DTEND;VALUE=DATE:20211013
DTSTAMP:20260424T084408
CREATED:20210920T142301Z
LAST-MODIFIED:20210920T142301Z
UID:8975-1633996800-1634083199@www.languagepoint.eu
SUMMARY:Linguaskill\, General English - 12 October 2021
DESCRIPTION:Linguaskill – General English version – date: 12 October 2021. \nComputer-based session. \nVenue: IT237\, Language Point\, Milan\, Italy.
URL:https://www.languagepoint.eu/event/linguaskill-general-english-121021/
LOCATION:Language Point\, Piazza Aspromonte\, 35\, Milano\, 20131\, Italia
END:VEVENT
BEGIN:VEVENT
DTSTART;VALUE=DATE:20211012
DTEND;VALUE=DATE:20211013
DTSTAMP:20260424T084408
CREATED:20210920T142505Z
LAST-MODIFIED:20210920T142505Z
UID:8979-1633996800-1634083199@www.languagepoint.eu
SUMMARY:Linguaskill\, Business - 12 October 2021
DESCRIPTION:Linguaskill – Business version – date: 12 October 2021. \nComputer-based session. \nVenue: IT237\, Language Point\, Milan\, Italy.
URL:https://www.languagepoint.eu/event/linguaskill-business-12-october-2021/
LOCATION:Language Point\, Piazza Aspromonte\, 35\, Milano\, 20131\, Italia
END:VEVENT
BEGIN:VEVENT
DTSTART;VALUE=DATE:20211013
DTEND;VALUE=DATE:20211014
DTSTAMP:20260424T084408
CREATED:20210918T101007Z
LAST-MODIFIED:20210918T101007Z
UID:8963-1634083200-1634169599@www.languagepoint.eu
SUMMARY:B2 First FS (FCE FS) - 13 October 2021
DESCRIPTION:Cambridge Assessment English B2 First FS (FCE FS) – date: 13 October 2021. \nPaper-based session. \nVenue: IT237\, Language Point\, Milan\, Italy.
URL:https://www.languagepoint.eu/event/fcefspb-13102021-lp/
END:VEVENT
BEGIN:VEVENT
DTSTART;VALUE=DATE:20211016
DTEND;VALUE=DATE:20211017
DTSTAMP:20260424T084408
CREATED:20210918T094757Z
LAST-MODIFIED:20210918T094757Z
UID:8948-1634342400-1634428799@www.languagepoint.eu
SUMMARY:YLE: Pre-A1 Starters\, A1 Movers\, A2 Flyers 16 October 2021
DESCRIPTION:Cambridge Assessment English Young Learners of English (YLE: Pre-A1 Starters\, A1 Movers\, A2 Flyers) – date: 16 October 2021. \nPaper-based session. \nVenue: IT237\, Language Point\, Milan\, Italy.
URL:https://www.languagepoint.eu/event/ylesmv-16102021-lp/
LOCATION:Language Point\, Piazza Aspromonte\, 35\, Milano\, 20131\, Italia
END:VEVENT
BEGIN:VEVENT
DTSTART;VALUE=DATE:20211016
DTEND;VALUE=DATE:20211017
DTSTAMP:20260424T084408
CREATED:20210918T095038Z
LAST-MODIFIED:20210918T095038Z
UID:8952-1634342400-1634428799@www.languagepoint.eu
SUMMARY:A2 Key (KET FS) - 16 October 2021
DESCRIPTION:Cambridge Assessment English A2 Key (KET FS) – date: 16 October 2021. \nComputer-based session. \nVenue: IT237\, Language Point\, Milan\, Italy.
URL:https://www.languagepoint.eu/event/ketfs-16102021-lp/
LOCATION:Language Point\, Piazza Aspromonte\, 35\, Milano\, 20131\, Italia
END:VEVENT
BEGIN:VEVENT
DTSTART;VALUE=DATE:20211016
DTEND;VALUE=DATE:20211017
DTSTAMP:20260424T084408
CREATED:20210918T100822Z
LAST-MODIFIED:20211026T095410Z
UID:8961-1634342400-1634428799@www.languagepoint.eu
SUMMARY:B1 Preliminary (PET FS) - 16 October 2021
DESCRIPTION:Cambridge Assessment English B1 Preliminary (PET FS) – date: 16 October 2021. \nComputer-based session. \nVenue: IT237\, Language Point\, Milan\, Italy.
URL:https://www.languagepoint.eu/event/petcb-16102021-lp/
END:VEVENT
BEGIN:VEVENT
DTSTART;VALUE=DATE:20211016
DTEND;VALUE=DATE:20211017
DTSTAMP:20260424T084408
CREATED:20210918T101110Z
LAST-MODIFIED:20210918T101110Z
UID:8965-1634342400-1634428799@www.languagepoint.eu
SUMMARY:B2 First (FCE) - 16 October 2021
DESCRIPTION:Cambridge Assessment English B2 First (FCE)- date: 16 October 2021. \nComputer-based session. \nVenue: IT237\, Language Point\, Milan\, Italy.
URL:https://www.languagepoint.eu/event/fcecb-16102021-lp/
END:VEVENT
BEGIN:VEVENT
DTSTART;VALUE=DATE:20211016
DTEND;VALUE=DATE:20211017
DTSTAMP:20260424T084408
CREATED:20210918T105839Z
LAST-MODIFIED:20210918T105839Z
UID:8967-1634342400-1634428799@www.languagepoint.eu
SUMMARY:C1 Advanced (CAE) - 16 October 2021
DESCRIPTION:Cambridge Assessment English C1 Advanced (CAE) – date: 16 October 2021. \nPaper-based session. \nVenue: IT237\, Language Point\, Milan\, Italy.
URL:https://www.languagepoint.eu/event/caepb-16102021-lp/
END:VEVENT
BEGIN:VEVENT
DTSTART;VALUE=DATE:20211021
DTEND;VALUE=DATE:20211022
DTSTAMP:20260424T084408
CREATED:20210918T094933Z
LAST-MODIFIED:20210918T094933Z
UID:8950-1634774400-1634860799@www.languagepoint.eu
SUMMARY:A2 Key (KET) - 21 October 2021
DESCRIPTION:Cambridge Assessment English A2 Key (KET) – date: 21 October 2021. \nComputer-based session. \nVenue: IT237\, Language Point\, Milan\, Italy.
URL:https://www.languagepoint.eu/event/ketfs-21102021-lp/
LOCATION:Language Point\, Piazza Aspromonte\, 35\, Milano\, 20131\, Italia
END:VEVENT
BEGIN:VEVENT
DTSTART;VALUE=DATE:20211021
DTEND;VALUE=DATE:20211022
DTSTAMP:20260424T084408
CREATED:20210918T095528Z
LAST-MODIFIED:20210918T095528Z
UID:8955-1634774400-1634860799@www.languagepoint.eu
SUMMARY:B1 Preliminary (PET) - 21 October 2021
DESCRIPTION:Cambridge Assessment English B1 Preliminary (PET) – date: 21 October 2021. \nComputer-based session. \nVenue: IT237\, Language Point\, Milan\, Italy.
URL:https://www.languagepoint.eu/event/b1-preliminary-pet-21-october-21/
END:VEVENT
BEGIN:VEVENT
DTSTART;VALUE=DATE:20211023
DTEND;VALUE=DATE:20211024
DTSTAMP:20260424T084408
CREATED:20210918T105853Z
LAST-MODIFIED:20210918T105853Z
UID:8968-1634947200-1635033599@www.languagepoint.eu
SUMMARY:C1 Advanced (CAE) - 23 October 2021
DESCRIPTION:Cambridge Assessment English C1 Advanced (CAE) – date: 23 October 2021. \nComputer-based session. \nVenue: IT237\, Language Point\, Milan\, Italy.
URL:https://www.languagepoint.eu/event/caecb-23102021-lp/
END:VEVENT
BEGIN:VEVENT
DTSTART;VALUE=DATE:20211023
DTEND;VALUE=DATE:20211024
DTSTAMP:20260424T084408
CREATED:20210918T110107Z
LAST-MODIFIED:20210918T110107Z
UID:8972-1634947200-1635033599@www.languagepoint.eu
SUMMARY:Occupational English Test (OET) - 23 October 2021
DESCRIPTION:Occupational English Test (OET) – date: 23 October 2021. \nPaper-based session. \nVenue: IT0004\, Language Point\, Milan\, Italy.
URL:https://www.languagepoint.eu/event/oet-23102021-lp/
END:VEVENT
BEGIN:VEVENT
DTSTART;VALUE=DATE:20211026
DTEND;VALUE=DATE:20211027
DTSTAMP:20260424T084408
CREATED:20210920T142259Z
LAST-MODIFIED:20210920T142259Z
UID:8976-1635206400-1635292799@www.languagepoint.eu
SUMMARY:Linguaskill\, General English - 26 October 2021
DESCRIPTION:Linguaskill – General English version – date: 26 October 2021. \nComputer-based session. \nVenue: IT237\, Language Point\, Milan\, Italy.
URL:https://www.languagepoint.eu/event/linguaskill-general-english-261021/
LOCATION:Language Point\, Piazza Aspromonte\, 35\, Milano\, 20131\, Italia
END:VEVENT
BEGIN:VEVENT
DTSTART;VALUE=DATE:20211026
DTEND;VALUE=DATE:20211027
DTSTAMP:20260424T084408
CREATED:20210920T142502Z
LAST-MODIFIED:20210920T142502Z
UID:8980-1635206400-1635292799@www.languagepoint.eu
SUMMARY:Linguaskill\, Business - 26 October 2021
DESCRIPTION:Linguaskill – Business version – date: 26 October 2021. \nComputer-based session. \nVenue: IT237\, Language Point\, Milan\, Italy.
URL:https://www.languagepoint.eu/event/linguaskill-business-26-october-2021/
LOCATION:Language Point\, Piazza Aspromonte\, 35\, Milano\, 20131\, Italia
END:VEVENT
END:VCALENDAR