BEGIN:VCALENDAR
VERSION:2.0
PRODID:-//Language Point - ECPv5.2.1//NONSGML v1.0//EN
CALSCALE:GREGORIAN
METHOD:PUBLISH
X-WR-CALNAME:Language Point
X-ORIGINAL-URL:https://www.languagepoint.eu
X-WR-CALDESC:Eventi per Language Point
BEGIN:VTIMEZONE
TZID:Europe/Rome
BEGIN:DAYLIGHT
TZOFFSETFROM:+0100
TZOFFSETTO:+0200
TZNAME:CEST
DTSTART:20210328T010000
END:DAYLIGHT
BEGIN:STANDARD
TZOFFSETFROM:+0200
TZOFFSETTO:+0100
TZNAME:CET
DTSTART:20211031T010000
END:STANDARD
END:VTIMEZONE
BEGIN:VEVENT
DTSTART;VALUE=DATE:20211106
DTEND;VALUE=DATE:20211107
DTSTAMP:20260424T071550
CREATED:20211026T100717Z
LAST-MODIFIED:20211026T100717Z
UID:9152-1636156800-1636243199@www.languagepoint.eu
SUMMARY:C1 Advanced (CAE) - 6 November 2021
DESCRIPTION:Cambridge Assessment English C1 Advanced (CAE) – date: 6 November 2021. \nComputer-based session. \nVenue: IT237\, Language Point\, Milan\, Italy.
URL:https://www.languagepoint.eu/event/caecb-06112021-lp/
END:VEVENT
BEGIN:VEVENT
DTSTART;VALUE=DATE:20211106
DTEND;VALUE=DATE:20211107
DTSTAMP:20260424T071550
CREATED:20211026T104858Z
LAST-MODIFIED:20211026T104858Z
UID:9171-1636156800-1636243199@www.languagepoint.eu
SUMMARY:Occupational English Test (OET) - 6 November 2021
DESCRIPTION:Occupational English Test (OET) – date: 6 November 2021. \nPaper-based session. \nVenue: IT0004\, Language Point\, Milan\, Italy.
URL:https://www.languagepoint.eu/event/occupational-english-test-oet-6-november-2021/
END:VEVENT
BEGIN:VEVENT
DTSTART;VALUE=DATE:20211109
DTEND;VALUE=DATE:20211110
DTSTAMP:20260424T071550
CREATED:20211026T100004Z
LAST-MODIFIED:20211026T100004Z
UID:9138-1636416000-1636502399@www.languagepoint.eu
SUMMARY:B2 First FS (FCE FS) - 9 November 2021
DESCRIPTION:Cambridge Assessment English B2 First FS (FCE FS) – date: 9 November 2021. \nComputer-based session. \nVenue: IT237\, Language Point\, Milan\, Italy.
URL:https://www.languagepoint.eu/event/fcefscb-09112021-lp/
END:VEVENT
BEGIN:VEVENT
DTSTART;VALUE=DATE:20211110
DTEND;VALUE=DATE:20211111
DTSTAMP:20260424T071550
CREATED:20211026T100407Z
LAST-MODIFIED:20211026T100407Z
UID:9146-1636502400-1636588799@www.languagepoint.eu
SUMMARY:B2 First (FCE) - 10 November 2021
DESCRIPTION:Cambridge Assessment English B2 First FS (FCE) – date: 10 November 2021. \nComputer-based session. \nVenue: IT237\, Language Point\, Milan\, Italy.
URL:https://www.languagepoint.eu/event/fcecb-10112021-lp/
END:VEVENT
BEGIN:VEVENT
DTSTART;VALUE=DATE:20211111
DTEND;VALUE=DATE:20211112
DTSTAMP:20260424T071550
CREATED:20211026T104241Z
LAST-MODIFIED:20211026T104241Z
UID:9164-1636588800-1636675199@www.languagepoint.eu
SUMMARY:Linguaskill\, Business - 11 November 2021
DESCRIPTION:Linguaskill – Business version – date: 11 November 2021. \nComputer-based session. \nVenue: IT237\, Language Point\, Milan\, Italy.
URL:https://www.languagepoint.eu/event/linguaskill-business-11-november-2021/
END:VEVENT
BEGIN:VEVENT
DTSTART;VALUE=DATE:20211111
DTEND;VALUE=DATE:20211112
DTSTAMP:20260424T071550
CREATED:20211026T104550Z
LAST-MODIFIED:20211026T104550Z
UID:9168-1636588800-1636675199@www.languagepoint.eu
SUMMARY:Linguaskill\, General English - 11 November 2021
DESCRIPTION:Linguaskill – General English version – date: 11 November 2021. \nComputer-based session. \nVenue: IT237\, Language Point\, Milan\, Italy.
URL:https://www.languagepoint.eu/event/linguaskill-general-english-11-november-2021/
END:VEVENT
BEGIN:VEVENT
DTSTART;VALUE=DATE:20211113
DTEND;VALUE=DATE:20211114
DTSTAMP:20260424T071550
CREATED:20211026T094134Z
LAST-MODIFIED:20211026T094134Z
UID:9124-1636761600-1636847999@www.languagepoint.eu
SUMMARY:YLE: Pre-A1 Starters\, A1 Movers 13 November 2021
DESCRIPTION:Cambridge Assessment English Young Learners of English (YLE: Pre-A1 Starters\, A1 Movers) – date: 13 November 2021. \nPaper-based session. \nVenue: IT237\, Language Point\, Milan\, Italy.
URL:https://www.languagepoint.eu/event/ylesm-13112021-lp/
END:VEVENT
BEGIN:VEVENT
DTSTART;VALUE=DATE:20211113
DTEND;VALUE=DATE:20211114
DTSTAMP:20260424T071550
CREATED:20211026T095003Z
LAST-MODIFIED:20211026T095003Z
UID:9126-1636761600-1636847999@www.languagepoint.eu
SUMMARY:A2 Key (KET FS) - 13 November 2021
DESCRIPTION:Cambridge Assessment English A2 Key (KET FS) – date: 13 November 2021. \nComputer-based session. \nVenue: IT237\, Language Point\, Milan\, Italy.
URL:https://www.languagepoint.eu/event/a2-key-ket-fs-13-november-2021/
END:VEVENT
BEGIN:VEVENT
DTSTART;VALUE=DATE:20211113
DTEND;VALUE=DATE:20211114
DTSTAMP:20260424T071550
CREATED:20211026T101059Z
LAST-MODIFIED:20211026T101059Z
UID:9154-1636761600-1636847999@www.languagepoint.eu
SUMMARY:C2 Proficiency (CPE) - 13 November 2021
DESCRIPTION:Cambridge Assessment English C2 Proficiency (CPE) – date: 13 November 2021. \nComputer-based session. \nVenue: IT237\, Language Point\, Milan\, Italy.
URL:https://www.languagepoint.eu/event/cpe-13112021-lp/
END:VEVENT
BEGIN:VEVENT
DTSTART;VALUE=DATE:20211118
DTEND;VALUE=DATE:20211119
DTSTAMP:20260424T071550
CREATED:20211026T095959Z
LAST-MODIFIED:20211026T095959Z
UID:9139-1637193600-1637279999@www.languagepoint.eu
SUMMARY:B2 First FS (FCE FS) - 18 November 2021
DESCRIPTION:Cambridge Assessment English B2 First FS (FCE FS) – date: 18 November 2021. \nComputer-based session. \nVenue: IT237\, Language Point\, Milan\, Italy.
URL:https://www.languagepoint.eu/event/fcefscb-18112021-lp/
END:VEVENT
BEGIN:VEVENT
DTSTART;VALUE=DATE:20211119
DTEND;VALUE=DATE:20211120
DTSTAMP:20260424T071551
CREATED:20211026T100404Z
LAST-MODIFIED:20211026T100404Z
UID:9147-1637280000-1637366399@www.languagepoint.eu
SUMMARY:B2 First (FCE) - 19 November 2021
DESCRIPTION:Cambridge Assessment English B2 First FS (FCE) – date: 19 November 2021. \nComputer-based session. \nVenue: IT237\, Language Point\, Milan\, Italy.
URL:https://www.languagepoint.eu/event/fcecb-19112021-lp/
END:VEVENT
BEGIN:VEVENT
DTSTART;VALUE=DATE:20211120
DTEND;VALUE=DATE:20211121
DTSTAMP:20260424T071551
CREATED:20211026T104853Z
LAST-MODIFIED:20211026T104853Z
UID:9172-1637366400-1637452799@www.languagepoint.eu
SUMMARY:Occupational English Test (OET) - 20 November 2021
DESCRIPTION:Occupational English Test (OET) – date: 20 November 2021. \nPaper-based session. \nVenue: IT0004\, Language Point\, Milan\, Italy.
URL:https://www.languagepoint.eu/event/occupational-english-test-oet-20-november-2021/
END:VEVENT
BEGIN:VEVENT
DTSTART;VALUE=DATE:20211123
DTEND;VALUE=DATE:20211124
DTSTAMP:20260424T071551
CREATED:20210529T091131Z
LAST-MODIFIED:20221025T165343Z
UID:7961-1637625600-1637711999@www.languagepoint.eu
SUMMARY:CB - BEC B2(Vantage) - 23 November 2022
DESCRIPTION:Cambridge Business English Certificate B2 Vantage – date: 23 November 2022 \nComputer-based session. \nVenue: IT237\, Language Point\, Milan\, Italy.
URL:https://www.languagepoint.eu/event/ketfs-01062021-lp/
END:VEVENT
BEGIN:VEVENT
DTSTART;VALUE=DATE:20211123
DTEND;VALUE=DATE:20211124
DTSTAMP:20260424T071551
CREATED:20211026T095956Z
LAST-MODIFIED:20211026T095956Z
UID:9140-1637625600-1637711999@www.languagepoint.eu
SUMMARY:B2 First FS (FCE FS) - 23 November 2021
DESCRIPTION:Cambridge Assessment English B2 First FS (FCE FS) – date: 23 November 2021. \nComputer-based session. \nVenue: IT237\, Language Point\, Milan\, Italy.
URL:https://www.languagepoint.eu/event/fcefscb-23112021-lp/
END:VEVENT
BEGIN:VEVENT
DTSTART;VALUE=DATE:20211124
DTEND;VALUE=DATE:20211125
DTSTAMP:20260424T071551
CREATED:20211026T101331Z
LAST-MODIFIED:20211026T101331Z
UID:9158-1637712000-1637798399@www.languagepoint.eu
SUMMARY:B2 Business Vantage (BEC V) - 24 November 2021
DESCRIPTION:Cambridge Assessment English B2 Business Vantage (BEC V) – date: 24 November 2021. \nComputer-based session. \nVenue: IT237\, Language Point\, Milan\, Italy.
URL:https://www.languagepoint.eu/event/becv-24112021-lp/
END:VEVENT
BEGIN:VEVENT
DTSTART;VALUE=DATE:20211124
DTEND;VALUE=DATE:20211125
DTSTAMP:20260424T071551
CREATED:20211026T101336Z
LAST-MODIFIED:20211026T101336Z
UID:9160-1637712000-1637798399@www.languagepoint.eu
SUMMARY:B1 Business Preliminary (BEC P) - 24 November 2021
DESCRIPTION:Cambridge Assessment English B1 Business Preliminary (BEC P) – date: 24 November 2021. \nComputer-based session. \nVenue: IT237\, Language Point\, Milan\, Italy.
URL:https://www.languagepoint.eu/event/becp-24112021-lp/
END:VEVENT
BEGIN:VEVENT
DTSTART;VALUE=DATE:20211126
DTEND;VALUE=DATE:20211127
DTSTAMP:20260424T071551
CREATED:20211026T104239Z
LAST-MODIFIED:20211026T104239Z
UID:9163-1637884800-1637971199@www.languagepoint.eu
SUMMARY:Linguaskill\, Business - 26 November 2021
DESCRIPTION:Linguaskill – Business version – date: 26 November 2021. \nComputer-based session. \nVenue: IT237\, Language Point\, Milan\, Italy.
URL:https://www.languagepoint.eu/event/linguaskill-business-26-november-2021/
END:VEVENT
BEGIN:VEVENT
DTSTART;VALUE=DATE:20211126
DTEND;VALUE=DATE:20211127
DTSTAMP:20260424T071551
CREATED:20211026T104547Z
LAST-MODIFIED:20211026T104547Z
UID:9167-1637884800-1637971199@www.languagepoint.eu
SUMMARY:Linguaskill\, General English - 26 November 2021
DESCRIPTION:Linguaskill – General English version – date: 26 November 2021. \nComputer-based session. \nVenue: IT237\, Language Point\, Milan\, Italy.
URL:https://www.languagepoint.eu/event/linguaskill-general-english-26-november-2021/
END:VEVENT
BEGIN:VEVENT
DTSTART;VALUE=DATE:20211127
DTEND;VALUE=DATE:20211128
DTSTAMP:20260424T071551
CREATED:20211026T095000Z
LAST-MODIFIED:20211026T095000Z
UID:9127-1637971200-1638057599@www.languagepoint.eu
SUMMARY:A2 Key (KET FS) - 27 November 2021
DESCRIPTION:Cambridge Assessment English A2 Key (KET FS) – date: 27 November 2021. \nComputer-based session. \nVenue: IT237\, Language Point\, Milan\, Italy.
URL:https://www.languagepoint.eu/event/a2-key-ket-fs-27-november-2021/
END:VEVENT
BEGIN:VEVENT
DTSTART;VALUE=DATE:20211127
DTEND;VALUE=DATE:20211128
DTSTAMP:20260424T071551
CREATED:20211026T095053Z
LAST-MODIFIED:20211026T095053Z
UID:9130-1637971200-1638057599@www.languagepoint.eu
SUMMARY:A2 Key (KET) - 27 November 2021
DESCRIPTION:Cambridge Assessment English A2 Key (KET) – date: 27 November 2021. \nComputer-based session. \nVenue: IT237\, Language Point\, Milan\, Italy.
URL:https://www.languagepoint.eu/event/a2-key-ket-27-november-2021/
END:VEVENT
BEGIN:VEVENT
DTSTART;VALUE=DATE:20211127
DTEND;VALUE=DATE:20211128
DTSTAMP:20260424T071551
CREATED:20211026T095346Z
LAST-MODIFIED:20211026T095447Z
UID:9132-1637971200-1638057599@www.languagepoint.eu
SUMMARY:B1 Preliminary (PET FS) - 27 November 2021
DESCRIPTION:Cambridge Assessment English B1 Preliminary (PET FS) – date: 27 November 2021. \nComputer-based session. \nVenue: IT237\, Language Point\, Milan\, Italy.
URL:https://www.languagepoint.eu/event/b1-preliminary-pet-fs-27-november-2021/
END:VEVENT
BEGIN:VEVENT
DTSTART;VALUE=DATE:20211127
DTEND;VALUE=DATE:20211128
DTSTAMP:20260424T071551
CREATED:20211026T095442Z
LAST-MODIFIED:20211026T095442Z
UID:9136-1637971200-1638057599@www.languagepoint.eu
SUMMARY:B1 Preliminary (PET) - 27 November 2021
DESCRIPTION:Cambridge Assessment English B1 Preliminary (PET) – date: 27 November 2021. \nComputer-based session. \nVenue: IT237\, Language Point\, Milan\, Italy.
URL:https://www.languagepoint.eu/event/b1-preliminary-pet-27-november-2021/
END:VEVENT
BEGIN:VEVENT
DTSTART;VALUE=DATE:20211127
DTEND;VALUE=DATE:20211128
DTSTAMP:20260424T071551
CREATED:20211026T101056Z
LAST-MODIFIED:20211026T101056Z
UID:9155-1637971200-1638057599@www.languagepoint.eu
SUMMARY:C2 Proficiency (CPE) - 27 November 2021
DESCRIPTION:Cambridge Assessment English C2 Proficiency (CPE) – date: 27 November 2021. \nPaper-based session. \nVenue: IT237\, Language Point\, Milan\, Italy.
URL:https://www.languagepoint.eu/event/cpe-27112021-lp/
END:VEVENT
BEGIN:VEVENT
DTSTART;VALUE=DATE:20211130
DTEND;VALUE=DATE:20211201
DTSTAMP:20260424T071551
CREATED:20211026T095953Z
LAST-MODIFIED:20211026T095953Z
UID:9141-1638230400-1638316799@www.languagepoint.eu
SUMMARY:B2 First FS (FCE FS) - 30 November 2021
DESCRIPTION:Cambridge Assessment English B2 First FS (FCE FS) – date: 30 November 2021. \nComputer-based session. \nVenue: IT237\, Language Point\, Milan\, Italy.
URL:https://www.languagepoint.eu/event/fcefscb-30112021-lp/
END:VEVENT
BEGIN:VEVENT
DTSTART;VALUE=DATE:20211130
DTEND;VALUE=DATE:20211201
DTSTAMP:20260424T071551
CREATED:20211026T100401Z
LAST-MODIFIED:20211026T100401Z
UID:9148-1638230400-1638316799@www.languagepoint.eu
SUMMARY:B2 First (FCE) - 30 November 2021
DESCRIPTION:Cambridge Assessment English B2 First FS (FCE) – date: 30 November 2021. \nPaper-based session. \nVenue: IT237\, Language Point\, Milan\, Italy.
URL:https://www.languagepoint.eu/event/fcepb-30112021-lp/
END:VEVENT
BEGIN:VEVENT
DTSTART;VALUE=DATE:20211202
DTEND;VALUE=DATE:20211203
DTSTAMP:20260424T071551
CREATED:20211103T162011Z
LAST-MODIFIED:20211103T162011Z
UID:9199-1638403200-1638489599@www.languagepoint.eu
SUMMARY:C1 Advanced (CAE) - 2 December 2021
DESCRIPTION:Cambridge Assessment English C1 Advanced (CAE) – date: 2 December 2021. \nComputer-based session. \nVenue: IT237\, Language Point\, Milan\, Italy.
URL:https://www.languagepoint.eu/event/c1-advanced-cae-2-december-2021/
END:VEVENT
BEGIN:VEVENT
DTSTART;VALUE=DATE:20211204
DTEND;VALUE=DATE:20211205
DTSTAMP:20260424T071551
CREATED:20211103T161552Z
LAST-MODIFIED:20211103T161552Z
UID:9191-1638576000-1638662399@www.languagepoint.eu
SUMMARY:B2 First (FCE) - 4 December 2021
DESCRIPTION:Cambridge Assessment English B2 First (FCE) – date: 4 December 2021. \nComputer-based session. \nVenue: IT237\, Language Point\, Milan\, Italy.
URL:https://www.languagepoint.eu/event/b2-first-fce-4-december-2021/
END:VEVENT
BEGIN:VEVENT
DTSTART;VALUE=DATE:20211204
DTEND;VALUE=DATE:20211205
DTSTAMP:20260424T071551
CREATED:20211103T162845Z
LAST-MODIFIED:20211103T162845Z
UID:9213-1638576000-1638662399@www.languagepoint.eu
SUMMARY:Occupational English Test (OET) - 4 December 2021
DESCRIPTION:Occupational English Test (OET) – date: 4 December 2021. \nPaper-based session. \nVenue: IT0004\, Language Point\, Milan\, Italy.
URL:https://www.languagepoint.eu/event/occupational-english-test-oet-4-december-2021/
END:VEVENT
END:VCALENDAR