BEGIN:VCALENDAR
VERSION:2.0
PRODID:-//Language Point - ECPv5.2.1//NONSGML v1.0//EN
CALSCALE:GREGORIAN
METHOD:PUBLISH
X-WR-CALNAME:Language Point
X-ORIGINAL-URL:https://www.languagepoint.eu
X-WR-CALDESC:Eventi per Language Point
BEGIN:VTIMEZONE
TZID:Europe/Rome
BEGIN:DAYLIGHT
TZOFFSETFROM:+0100
TZOFFSETTO:+0200
TZNAME:CEST
DTSTART:20220327T010000
END:DAYLIGHT
BEGIN:STANDARD
TZOFFSETFROM:+0200
TZOFFSETTO:+0100
TZNAME:CET
DTSTART:20221030T010000
END:STANDARD
END:VTIMEZONE
BEGIN:VEVENT
DTSTART;VALUE=DATE:20220203
DTEND;VALUE=DATE:20220204
DTSTAMP:20260424T032322
CREATED:20211126T154521Z
LAST-MODIFIED:20211126T154521Z
UID:9282-1643846400-1643932799@www.languagepoint.eu
SUMMARY:A2 Key (KET) - 3 February 2022
DESCRIPTION:Cambridge Assessment English A2 Key (KET) – date: 3 February 2022. \nComputer-based session. \nVenue: IT237\, Language Point\, Milan\, Italy.
URL:https://www.languagepoint.eu/event/a2-key-ket-3-february-2022/
END:VEVENT
BEGIN:VEVENT
DTSTART;VALUE=DATE:20220203
DTEND;VALUE=DATE:20220204
DTSTAMP:20260424T032322
CREATED:20211126T155612Z
LAST-MODIFIED:20211126T155612Z
UID:9286-1643846400-1643932799@www.languagepoint.eu
SUMMARY:B1 Preliminary (PET) - 3 February 2022
DESCRIPTION:Cambridge Assessment English B1 Preliminary (PET) – date: 3 February 2022. \nComputer-based session. \nVenue: IT237\, Language Point\, Milan\, Italy.
URL:https://www.languagepoint.eu/event/b1-preliminary-pet-3-february-2022/
END:VEVENT
BEGIN:VEVENT
DTSTART;VALUE=DATE:20220205
DTEND;VALUE=DATE:20220206
DTSTAMP:20260424T032322
CREATED:20211126T160729Z
LAST-MODIFIED:20211126T160729Z
UID:9298-1644019200-1644105599@www.languagepoint.eu
SUMMARY:Occupational English Test (OET) - 5 February 2022
DESCRIPTION:Occupational English Test (OET) – date: 5 February 2022. \nPaper-based session. \nVenue: IT0004\, Language Point\, Milan\, Italy.
URL:https://www.languagepoint.eu/event/occupational-english-test-oet-5-february-2022/
END:VEVENT
BEGIN:VEVENT
DTSTART;VALUE=DATE:20220212
DTEND;VALUE=DATE:20220213
DTSTAMP:20260424T032322
CREATED:20211126T154539Z
LAST-MODIFIED:20211126T154539Z
UID:9283-1644624000-1644710399@www.languagepoint.eu
SUMMARY:A2 Key for Schools (KET FS) - 12 February 2022
DESCRIPTION:Cambridge Assessment English A2 Key for Schools (KET FS) – date: 12 February 2022. \nComputer-based session. \nVenue: IT237\, Language Point\, Milan\, Italy.
URL:https://www.languagepoint.eu/event/a2-key-for-schools-ket-fs-12-february-2022/
END:VEVENT
BEGIN:VEVENT
DTSTART;VALUE=DATE:20220212
DTEND;VALUE=DATE:20220213
DTSTAMP:20260424T032322
CREATED:20211126T155633Z
LAST-MODIFIED:20211126T155633Z
UID:9287-1644624000-1644710399@www.languagepoint.eu
SUMMARY:B1 Preliminary for Schools (PET FS) - 12 February 2022
DESCRIPTION:Cambridge Assessment English B1 Preliminary (PET FS) – date: 12 February 2022. \nComputer-based session. \nVenue: IT237\, Language Point\, Milan\, Italy.
URL:https://www.languagepoint.eu/event/b1-preliminary-for-schools-pet-fs-12-february-2022/
END:VEVENT
BEGIN:VEVENT
DTSTART;VALUE=DATE:20220212
DTEND;VALUE=DATE:20220213
DTSTAMP:20260424T032322
CREATED:20211126T155804Z
LAST-MODIFIED:20211126T155804Z
UID:9290-1644624000-1644710399@www.languagepoint.eu
SUMMARY:C1 Advanced (CAE) - 12 February 2022
DESCRIPTION:Cambridge Assessment English C1 Advanced (CAE) – date: 12 February 2022. \nComputer-based session. \nVenue: IT237\, Language Point\, Milan\, Italy.
URL:https://www.languagepoint.eu/event/c1-advanced-cae-12-february-2022/
END:VEVENT
BEGIN:VEVENT
DTSTART;VALUE=DATE:20220218
DTEND;VALUE=DATE:20220219
DTSTAMP:20260424T032322
CREATED:20211126T160303Z
LAST-MODIFIED:20211126T160303Z
UID:9294-1645142400-1645228799@www.languagepoint.eu
SUMMARY:B2 Business Vantage (BEC V) - 18 February 2021
DESCRIPTION:Cambridge Assessment English B2 Business Vantage (BEC V) – date: 18 February 2021. \nComputer-based session. \nVenue: IT237\, Language Point\, Milan\, Italy.
URL:https://www.languagepoint.eu/event/b2-business-vantage-bec-v-18-february-2021/
END:VEVENT
BEGIN:VEVENT
DTSTART;VALUE=DATE:20220218
DTEND;VALUE=DATE:20220219
DTSTAMP:20260424T032322
CREATED:20211126T160548Z
LAST-MODIFIED:20211126T160548Z
UID:9296-1645142400-1645228799@www.languagepoint.eu
SUMMARY:B1 Business Preliminary (BEC P) - 18 February 2021
DESCRIPTION:Cambridge Assessment English B1 Business Preliminary (BEC P) – date: 18 February 2021. \nComputer-based session. \nVenue: IT237\, Language Point\, Milan\, Italy.
URL:https://www.languagepoint.eu/event/b1-business-preliminary-bec-p-18-february-2021/
END:VEVENT
BEGIN:VEVENT
DTSTART;VALUE=DATE:20220219
DTEND;VALUE=DATE:20220220
DTSTAMP:20260424T032322
CREATED:20211126T155945Z
LAST-MODIFIED:20211126T155945Z
UID:9292-1645228800-1645315199@www.languagepoint.eu
SUMMARY:B2 First (FCE) - 19 February 2022
DESCRIPTION:Cambridge Assessment English B2 First (FCE) – date: 19 February 2022. \nComputer-based session. \nVenue: IT237\, Language Point\, Milan\, Italy.
URL:https://www.languagepoint.eu/event/b2-first-fce-19-february-2022/
END:VEVENT
BEGIN:VEVENT
DTSTART;VALUE=DATE:20220219
DTEND;VALUE=DATE:20220220
DTSTAMP:20260424T032322
CREATED:20211126T160736Z
LAST-MODIFIED:20211126T160736Z
UID:9299-1645228800-1645315199@www.languagepoint.eu
SUMMARY:Occupational English Test (OET) - 19 February 2022
DESCRIPTION:Occupational English Test (OET) – date: 19 February 2022. \nPaper-based session. \nVenue: IT0004\, Language Point\, Milan\, Italy.
URL:https://www.languagepoint.eu/event/occupational-english-test-oet-19-february-2022/
END:VEVENT
BEGIN:VEVENT
DTSTART;VALUE=DATE:20220223
DTEND;VALUE=DATE:20220224
DTSTAMP:20260424T032322
CREATED:20211126T153058Z
LAST-MODIFIED:20211126T153058Z
UID:9280-1645574400-1645660799@www.languagepoint.eu
SUMMARY:C1 Advanced (CAE) - 23 February 2022
DESCRIPTION:Cambridge Assessment English C1 Advanced (CAE) – date: 23 February 2022. \nPaper-based session. \nVenue: IT237\, Language Point\, Milan\, Italy.
URL:https://www.languagepoint.eu/event/c1-advanced-cae-23-february-2022/
END:VEVENT
BEGIN:VEVENT
DTSTART;VALUE=DATE:20220226
DTEND;VALUE=DATE:20220227
DTSTAMP:20260424T032322
CREATED:20211126T152934Z
LAST-MODIFIED:20211126T152934Z
UID:9278-1645833600-1645919999@www.languagepoint.eu
SUMMARY:C2 Proficiency (CPE) - 26 February 2022
DESCRIPTION:Cambridge Assessment English C2 Proficiency (CPE) – date: 26 February 2022. \nComputer-based session. \nVenue: IT237\, Language Point\, Milan\, Italy.
URL:https://www.languagepoint.eu/event/c2-proficiency-cpe-26-february-2022/
END:VEVENT
BEGIN:VEVENT
DTSTART;VALUE=DATE:20220303
DTEND;VALUE=DATE:20220304
DTSTAMP:20260424T032322
CREATED:20220125T152026Z
LAST-MODIFIED:20220125T152026Z
UID:9339-1646265600-1646351999@www.languagepoint.eu
SUMMARY:B1 Preliminary (PET) - 3 March 2022
DESCRIPTION:Cambridge Assessment English B1 Preliminary (PET) – date: 3 March 2022. \nPaper-based session. \nVenue: IT237\, Language Point\, Milan\, Italy.
URL:https://www.languagepoint.eu/event/b1-preliminary-pet-3-march-2022/
END:VEVENT
BEGIN:VEVENT
DTSTART;VALUE=DATE:20220305
DTEND;VALUE=DATE:20220306
DTSTAMP:20260424T032322
CREATED:20220125T155019Z
LAST-MODIFIED:20220125T155019Z
UID:9362-1646438400-1646524799@www.languagepoint.eu
SUMMARY:Occupational English Test (OET) - 5 March 2022
DESCRIPTION:Occupational English Test (OET) – date: 5 March 2022. \nPaper-based session. \nVenue: IT0004\, Language Point\, Milan\, Italy.
URL:https://www.languagepoint.eu/event/occupational-english-test-oet-5-march-2022/
END:VEVENT
END:VCALENDAR