BEGIN:VCALENDAR
VERSION:2.0
PRODID:-//Language Point - ECPv5.2.1//NONSGML v1.0//EN
CALSCALE:GREGORIAN
METHOD:PUBLISH
X-WR-CALNAME:Language Point
X-ORIGINAL-URL:https://www.languagepoint.eu
X-WR-CALDESC:Eventi per Language Point
BEGIN:VTIMEZONE
TZID:Europe/Rome
BEGIN:DAYLIGHT
TZOFFSETFROM:+0100
TZOFFSETTO:+0200
TZNAME:CEST
DTSTART:20220327T010000
END:DAYLIGHT
BEGIN:STANDARD
TZOFFSETFROM:+0200
TZOFFSETTO:+0100
TZNAME:CET
DTSTART:20221030T010000
END:STANDARD
END:VTIMEZONE
BEGIN:VEVENT
DTSTART;VALUE=DATE:20220405
DTEND;VALUE=DATE:20220406
DTSTAMP:20260424T002800
CREATED:20220125T164224Z
LAST-MODIFIED:20220330T134051Z
UID:9386-1649116800-1649203199@www.languagepoint.eu
SUMMARY:Linguaskill - 5 April 2022
DESCRIPTION:Linguaskill – General and Business English versions – date: 5 April 2022. \nComputer-based session. \nVenue: IT237\, Language Point\, Milan\, Italy.
URL:https://www.languagepoint.eu/event/linguaskill-5-april-2021/
END:VEVENT
BEGIN:VEVENT
DTSTART;VALUE=DATE:20220407
DTEND;VALUE=DATE:20220408
DTSTAMP:20260424T002800
CREATED:20220125T160314Z
LAST-MODIFIED:20220125T160314Z
UID:9369-1649289600-1649375999@www.languagepoint.eu
SUMMARY:B1 Preliminary (PET FS) - 7 April 2022
DESCRIPTION:Cambridge Assessment English B1 Preliminary (PET FS) – date: 7 April 2022. \nComputer-based session. \nVenue: IT237\, Language Point\, Milan\, Italy.
URL:https://www.languagepoint.eu/event/b1-preliminary-pet-fs-7-april-2022/
END:VEVENT
BEGIN:VEVENT
DTSTART;VALUE=DATE:20220407
DTEND;VALUE=DATE:20220408
DTSTAMP:20260424T002800
CREATED:20220125T160551Z
LAST-MODIFIED:20220125T160551Z
UID:9374-1649289600-1649375999@www.languagepoint.eu
SUMMARY:A2 Key (KET FS) - 7 April 2022
DESCRIPTION:Cambridge Assessment English A2 Key (KET FS) – date: 7 April 2022. \nComputer-based session. \nVenue: IT237\, Language Point\, Milan\, Italy.
URL:https://www.languagepoint.eu/event/a2-key-ket-fs-7-april-2022/
END:VEVENT
BEGIN:VEVENT
DTSTART;VALUE=DATE:20220409
DTEND;VALUE=DATE:20220410
DTSTAMP:20260424T002800
CREATED:20220125T161656Z
LAST-MODIFIED:20220125T161656Z
UID:9382-1649462400-1649548799@www.languagepoint.eu
SUMMARY:Occupational English Test (OET) - 9 April 2022
DESCRIPTION:Occupational English Test (OET) – date: 9 April 2022. \nPaper-based session. \nVenue: IT0004\, Language Point\, Milan\, Italy.
URL:https://www.languagepoint.eu/event/occupational-english-test-oet-9-april-2022/
END:VEVENT
BEGIN:VEVENT
DTSTART;VALUE=DATE:20220409
DTEND;VALUE=DATE:20220410
DTSTAMP:20260424T002800
CREATED:20220330T101845Z
LAST-MODIFIED:20220330T101845Z
UID:9768-1649462400-1649548799@www.languagepoint.eu
SUMMARY:CB A2 Key (KET FS) - 9 June 2022
DESCRIPTION:Cambridge Assessment English A2 Key (KET FS) – date: 9 June 2022. \nComputer-based session. \nVenue: IT237\, Language Point\, Milan\, Italy.
URL:https://www.languagepoint.eu/event/cb-a2-key-ket-fs-9-june-2022/
END:VEVENT
BEGIN:VEVENT
DTSTART;VALUE=DATE:20220412
DTEND;VALUE=DATE:20220413
DTSTAMP:20260424T002800
CREATED:20220125T161036Z
LAST-MODIFIED:20220125T161036Z
UID:9377-1649721600-1649807999@www.languagepoint.eu
SUMMARY:B2 First (FCE) - 12 April 2022
DESCRIPTION:Cambridge Assessment English B2 First (FCE) – date: 12 April 2022. \nComputer-based session. \nVenue: IT237\, Language Point\, Milan\, Italy.
URL:https://www.languagepoint.eu/event/b2-first-fce-12-april-2022/
END:VEVENT
BEGIN:VEVENT
DTSTART;VALUE=DATE:20220416
DTEND;VALUE=DATE:20220417
DTSTAMP:20260424T002800
CREATED:20220330T101859Z
LAST-MODIFIED:20220330T101859Z
UID:9769-1650067200-1650153599@www.languagepoint.eu
SUMMARY:CB A2 Key (KET FS) - 16 June 2022
DESCRIPTION:Cambridge Assessment English A2 Key (KET FS) – date: 16 June 2022. \nComputer-based session. \nVenue: IT237\, Language Point\, Milan\, Italy.
URL:https://www.languagepoint.eu/event/cb-a2-key-ket-fs-16-june-2022/
END:VEVENT
BEGIN:VEVENT
DTSTART;VALUE=DATE:20220420
DTEND;VALUE=DATE:20220421
DTSTAMP:20260424T002800
CREATED:20220125T160332Z
LAST-MODIFIED:20220125T160332Z
UID:9370-1650412800-1650499199@www.languagepoint.eu
SUMMARY:B1 Preliminary (PET) - 20 April 2022
DESCRIPTION:Cambridge Assessment English B1 Preliminary (PET) – date: 20 April 2022. \nComputer-based session. \nVenue: IT237\, Language Point\, Milan\, Italy.
URL:https://www.languagepoint.eu/event/b1-preliminary-pet-20-april-2022/
END:VEVENT
BEGIN:VEVENT
DTSTART;VALUE=DATE:20220420
DTEND;VALUE=DATE:20220421
DTSTAMP:20260424T002800
CREATED:20220125T160613Z
LAST-MODIFIED:20220125T160613Z
UID:9373-1650412800-1650499199@www.languagepoint.eu
SUMMARY:A2 Key (KET) - 20 April 2022
DESCRIPTION:Cambridge Assessment English A2 Key (KET) – date: 20 April 2022. \nComputer-based session. \nVenue: IT237\, Language Point\, Milan\, Italy.
URL:https://www.languagepoint.eu/event/a2-key-ket-20-april-2022/
END:VEVENT
BEGIN:VEVENT
DTSTART;VALUE=DATE:20220421
DTEND;VALUE=DATE:20220422
DTSTAMP:20260424T002800
CREATED:20220125T161108Z
LAST-MODIFIED:20220125T161108Z
UID:9378-1650499200-1650585599@www.languagepoint.eu
SUMMARY:B2 First (FCE FS) - 21 April 2022
DESCRIPTION:Cambridge Assessment English B2 First (FCE) – date: 21 April 2022. \nPaper-based session. \nVenue: IT237\, Language Point\, Milan\, Italy.
URL:https://www.languagepoint.eu/event/b2-first-fce-21-april-2022/
END:VEVENT
BEGIN:VEVENT
DTSTART;VALUE=DATE:20220423
DTEND;VALUE=DATE:20220424
DTSTAMP:20260424T002800
CREATED:20220125T161712Z
LAST-MODIFIED:20220125T161712Z
UID:9381-1650672000-1650758399@www.languagepoint.eu
SUMMARY:Occupational English Test (OET) - 23 April 2022
DESCRIPTION:Occupational English Test (OET) – date: 23 April 2022. \nPaper-based session. \nVenue: IT0004\, Language Point\, Milan\, Italy.
URL:https://www.languagepoint.eu/event/occupational-english-test-oet-23-april-2022/
END:VEVENT
END:VCALENDAR