BEGIN:VCALENDAR
VERSION:2.0
PRODID:-//Language Point - ECPv5.2.1//NONSGML v1.0//EN
CALSCALE:GREGORIAN
METHOD:PUBLISH
X-WR-CALNAME:Language Point
X-ORIGINAL-URL:https://www.languagepoint.eu
X-WR-CALDESC:Eventi per Language Point
BEGIN:VTIMEZONE
TZID:Europe/Rome
BEGIN:DAYLIGHT
TZOFFSETFROM:+0100
TZOFFSETTO:+0200
TZNAME:CEST
DTSTART:20220327T010000
END:DAYLIGHT
BEGIN:STANDARD
TZOFFSETFROM:+0200
TZOFFSETTO:+0100
TZNAME:CET
DTSTART:20221030T010000
END:STANDARD
END:VTIMEZONE
BEGIN:VEVENT
DTSTART;VALUE=DATE:20220606
DTEND;VALUE=DATE:20220607
DTSTAMP:20260423T210218
CREATED:20220330T101834Z
LAST-MODIFIED:20220330T101834Z
UID:9767-1654473600-1654559999@www.languagepoint.eu
SUMMARY:CB A2 Key (KET FS) - 6 June 2022
DESCRIPTION:Cambridge Assessment English A2 Key (KET FS) – date: 6 June 2022. \nComputer-based session. \nVenue: IT237\, Language Point\, Milan\, Italy.
URL:https://www.languagepoint.eu/event/cb-a2-key-ket-fs-6-june-2022/
END:VEVENT
BEGIN:VEVENT
DTSTART;VALUE=DATE:20220606
DTEND;VALUE=DATE:20220607
DTSTAMP:20260423T210218
CREATED:20220330T104834Z
LAST-MODIFIED:20220330T104834Z
UID:9783-1654473600-1654559999@www.languagepoint.eu
SUMMARY:CB B1 Preliminary (PET FS) - 6 June 2022
DESCRIPTION:Cambridge Assessment English B1 Preliminary (PET FS) – date: 6 June 2022. \nComputer-based session. \nVenue: IT237\, Language Point\, Milan\, Italy.
URL:https://www.languagepoint.eu/event/cb-b1-preliminary-pet-fs-6-june-2022/
END:VEVENT
BEGIN:VEVENT
DTSTART;VALUE=DATE:20220607
DTEND;VALUE=DATE:20220608
DTSTAMP:20260423T210218
CREATED:20220330T122218Z
LAST-MODIFIED:20220330T122218Z
UID:9809-1654560000-1654646399@www.languagepoint.eu
SUMMARY:B2 First (FCE) - 7 June 2022
DESCRIPTION:Cambridge Assessment English B2 First (FCE) – date: 7 June 2022. \nPaper-based session. \nVenue: IT237\, Language Point\, Milan\, Italy.
URL:https://www.languagepoint.eu/event/b2-first-fce-7-june-2022/
END:VEVENT
BEGIN:VEVENT
DTSTART;VALUE=DATE:20220607
DTEND;VALUE=DATE:20220608
DTSTAMP:20260423T210218
CREATED:20220330T124523Z
LAST-MODIFIED:20220330T124523Z
UID:9819-1654560000-1654646399@www.languagepoint.eu
SUMMARY:CB C1 Advanced (CAE) - 7 June 2022
DESCRIPTION:Cambridge Assessment English C1 Advanced (CAE) – date: 7 June 2022. \nComputer-based session. \nVenue: IT237\, Language Point\, Milan\, Italy.
URL:https://www.languagepoint.eu/event/cb-c1-advanced-cae-7-june-2022/
END:VEVENT
BEGIN:VEVENT
DTSTART;VALUE=DATE:20220608
DTEND;VALUE=DATE:20220609
DTSTAMP:20260423T210218
CREATED:20220330T102627Z
LAST-MODIFIED:20220330T102627Z
UID:9775-1654646400-1654732799@www.languagepoint.eu
SUMMARY:CB A2 Key (KET) - 8 June 2022
DESCRIPTION:Cambridge Assessment English A2 Key (KET) – date: 8 June 2022. \nComputer-based session. \nVenue: IT237\, Language Point\, Milan\, Italy.
URL:https://www.languagepoint.eu/event/cb-a2-key-ket-8-june-2022/
END:VEVENT
BEGIN:VEVENT
DTSTART;VALUE=DATE:20220608
DTEND;VALUE=DATE:20220609
DTSTAMP:20260423T210218
CREATED:20220330T105153Z
LAST-MODIFIED:20220330T105517Z
UID:9791-1654646400-1654732799@www.languagepoint.eu
SUMMARY:B1 Preliminary (PET) - 8 June 2022
DESCRIPTION:Cambridge Assessment English B1 Preliminary (PET) – date: 8 June 2022. \nComputer-based session. \nVenue: IT237\, Language Point\, Milan\, Italy.
URL:https://www.languagepoint.eu/event/b1-preliminary-pet-8-june-2022/
END:VEVENT
BEGIN:VEVENT
DTSTART;VALUE=DATE:20220608
DTEND;VALUE=DATE:20220609
DTSTAMP:20260423T210218
CREATED:20220330T124057Z
LAST-MODIFIED:20220330T124057Z
UID:9815-1654646400-1654732799@www.languagepoint.eu
SUMMARY:B2 First FS (FCE FS) - 8 June 2022
DESCRIPTION:Cambridge Assessment English B2 First FS (FCE FS) – date: 8 June 2022. \nPaper-based session. \nVenue: IT237\, Language Point\, Milan\, Italy.
URL:https://www.languagepoint.eu/event/b2-first-fs-fce-fs-8-june-2022/
END:VEVENT
BEGIN:VEVENT
DTSTART;VALUE=DATE:20220608
DTEND;VALUE=DATE:20220609
DTSTAMP:20260423T210218
CREATED:20220330T124727Z
LAST-MODIFIED:20220330T124727Z
UID:9823-1654646400-1654732799@www.languagepoint.eu
SUMMARY:C1 Advanced (CAE) - 8 June 2022
DESCRIPTION:Cambridge Assessment English C1 Advanced (CAE) – date: 8 June 2022. \nPaper-based session. \nVenue: IT237\, Language Point\, Milan\, Italy.
URL:https://www.languagepoint.eu/event/c1-advanced-cae-8-june-2022/
END:VEVENT
BEGIN:VEVENT
DTSTART;VALUE=DATE:20220609
DTEND;VALUE=DATE:20220610
DTSTAMP:20260423T210218
CREATED:20220330T102941Z
LAST-MODIFIED:20220330T102941Z
UID:9779-1654732800-1654819199@www.languagepoint.eu
SUMMARY:A2 Key (KET) - 9 June 2022
DESCRIPTION:Cambridge Assessment English A2 Key (KET) – date: 9 June 2022. \nPaper-based session. \nVenue: IT237\, Language Point\, Milan\, Italy.
URL:https://www.languagepoint.eu/event/a2-key-ket-9-june-2022/
END:VEVENT
BEGIN:VEVENT
DTSTART;VALUE=DATE:20220609
DTEND;VALUE=DATE:20220610
DTSTAMP:20260423T210218
CREATED:20220330T104850Z
LAST-MODIFIED:20220330T104850Z
UID:9784-1654732800-1654819199@www.languagepoint.eu
SUMMARY:CB B1 Preliminary (PET FS) - 9 June 2022
DESCRIPTION:Cambridge Assessment English B1 Preliminary (PET FS) – date: 9 June 2022. \nComputer-based session. \nVenue: IT237\, Language Point\, Milan\, Italy.
URL:https://www.languagepoint.eu/event/cb-b1-preliminary-pet-fs-9-june-2022/
END:VEVENT
BEGIN:VEVENT
DTSTART;VALUE=DATE:20220609
DTEND;VALUE=DATE:20220610
DTSTAMP:20260423T210218
CREATED:20220330T105330Z
LAST-MODIFIED:20220330T105403Z
UID:9795-1654732800-1654819199@www.languagepoint.eu
SUMMARY:B1 Preliminary (PET) - 9 June 2022
DESCRIPTION:Cambridge Assessment English B1 Preliminary (PET) – date: 9 June 2022. \nPaper-based session. \nVenue: IT237\, Language Point\, Milan\, Italy.
URL:https://www.languagepoint.eu/event/b1-preliminary-pet-9-june-2022/
END:VEVENT
BEGIN:VEVENT
DTSTART;VALUE=DATE:20220609
DTEND;VALUE=DATE:20220610
DTSTAMP:20260423T210218
CREATED:20220330T121940Z
LAST-MODIFIED:20220330T121940Z
UID:9805-1654732800-1654819199@www.languagepoint.eu
SUMMARY:CB B2 First (FCE) - 9 June 2022
DESCRIPTION:Cambridge Assessment English B2 First (FCE) – date: 9 June 2022. \nComputer-based session. \nVenue: IT237\, Language Point\, Milan\, Italy.
URL:https://www.languagepoint.eu/event/cb-b2-first-fce-9-june-2022/
END:VEVENT
BEGIN:VEVENT
DTSTART;VALUE=DATE:20220609
DTEND;VALUE=DATE:20220610
DTSTAMP:20260423T210218
CREATED:20220330T130856Z
LAST-MODIFIED:20220330T130856Z
UID:9827-1654732800-1654819199@www.languagepoint.eu
SUMMARY:C2 Proficiency (CPE) - 9 June 2022
DESCRIPTION:Cambridge Assessment English C2 Proficiency (CPE) – date: 9 June 2022. \nPaper-based session. \nVenue: IT237\, Language Point\, Milan\, Italy.
URL:https://www.languagepoint.eu/event/c2-proficiency-cpe-9-june-2022/
END:VEVENT
BEGIN:VEVENT
DTSTART;VALUE=DATE:20220611
DTEND;VALUE=DATE:20220612
DTSTAMP:20260423T210218
CREATED:20220330T132255Z
LAST-MODIFIED:20220330T132255Z
UID:9832-1654905600-1654991999@www.languagepoint.eu
SUMMARY:Occupational English Test (OET) - 11 June 2022
DESCRIPTION:Occupational English Test (OET) – date: 11 June 2022. \nPaper-based session. \nVenue: IT0004\, Language Point\, Milan\, Italy.
URL:https://www.languagepoint.eu/event/occupational-english-test-oet-11-june-2022/
END:VEVENT
BEGIN:VEVENT
DTSTART;VALUE=DATE:20220616
DTEND;VALUE=DATE:20220617
DTSTAMP:20260423T210218
CREATED:20220330T104903Z
LAST-MODIFIED:20220330T104903Z
UID:9785-1655337600-1655423999@www.languagepoint.eu
SUMMARY:CB B1 Preliminary (PET FS) - 16 June 2022
DESCRIPTION:Cambridge Assessment English B1 Preliminary (PET FS) – date: 16 June 2022. \nComputer-based session. \nVenue: IT237\, Language Point\, Milan\, Italy.
URL:https://www.languagepoint.eu/event/cb-b1-preliminary-pet-fs-16-june-2022/
END:VEVENT
BEGIN:VEVENT
DTSTART;VALUE=DATE:20220617
DTEND;VALUE=DATE:20220618
DTSTAMP:20260423T210218
CREATED:20220330T121314Z
LAST-MODIFIED:20220330T121314Z
UID:9799-1655424000-1655510399@www.languagepoint.eu
SUMMARY:Business Preliminary\, Vantage\, Higher (BEC P\, BEC V\, BEC H) - 17 June 2022
DESCRIPTION:Cambridge Assessment English B1 Business Preliminary (BEC P) \nCambridge Assessment English B2 Business Vantage (BEC V) \nCambridge Assessment English C1 Business Higher (BEC H) \ndate: 17 June 2022. \nComputer-based session. \nVenue: IT237\, Language Point\, Milan\, Italy.
URL:https://www.languagepoint.eu/event/business-preliminary-vantage-higher-bec-p-bec-v-bec-h-17-june-2022/
END:VEVENT
BEGIN:VEVENT
DTSTART;VALUE=DATE:20220618
DTEND;VALUE=DATE:20220619
DTSTAMP:20260423T210218
CREATED:20220330T121610Z
LAST-MODIFIED:20220330T121610Z
UID:9801-1655510400-1655596799@www.languagepoint.eu
SUMMARY:CB B2 First (FCE FS) - 18 June 2022
DESCRIPTION:Cambridge Assessment English B2 First (FCE FS) – date: 18 June 2022. \nComputer-based session. \nVenue: IT237\, Language Point\, Milan\, Italy.
URL:https://www.languagepoint.eu/event/cb-b2-first-fce-fs-18-june-2022/
END:VEVENT
BEGIN:VEVENT
DTSTART;VALUE=DATE:20220618
DTEND;VALUE=DATE:20220619
DTSTAMP:20260423T210218
CREATED:20220330T122235Z
LAST-MODIFIED:20220330T122235Z
UID:9810-1655510400-1655596799@www.languagepoint.eu
SUMMARY:B2 First (FCE) - 18 June 2022
DESCRIPTION:Cambridge Assessment English B2 First (FCE) – date: 18 June 2022. \nPaper-based session. \nVenue: IT237\, Language Point\, Milan\, Italy.
URL:https://www.languagepoint.eu/event/b2-first-fce-18-june-2022/
END:VEVENT
BEGIN:VEVENT
DTSTART;VALUE=DATE:20220630
DTEND;VALUE=DATE:20220701
DTSTAMP:20260423T210218
CREATED:20220330T102638Z
LAST-MODIFIED:20220330T102638Z
UID:9776-1656547200-1656633599@www.languagepoint.eu
SUMMARY:CB A2 Key (KET) - 30 June 2022
DESCRIPTION:Cambridge Assessment English A2 Key (KET) – date: 30 June 2022. \nComputer-based session. \nVenue: IT237\, Language Point\, Milan\, Italy.
URL:https://www.languagepoint.eu/event/cb-a2-key-ket-30-june-2022/
END:VEVENT
END:VCALENDAR