BEGIN:VCALENDAR
VERSION:2.0
PRODID:-//Language Point - ECPv5.2.1//NONSGML v1.0//EN
CALSCALE:GREGORIAN
METHOD:PUBLISH
X-WR-CALNAME:Language Point
X-ORIGINAL-URL:https://www.languagepoint.eu
X-WR-CALDESC:Eventi per Language Point
BEGIN:VTIMEZONE
TZID:Europe/Rome
BEGIN:DAYLIGHT
TZOFFSETFROM:+0100
TZOFFSETTO:+0200
TZNAME:CEST
DTSTART:20220327T010000
END:DAYLIGHT
BEGIN:STANDARD
TZOFFSETFROM:+0200
TZOFFSETTO:+0100
TZNAME:CET
DTSTART:20221030T010000
END:STANDARD
END:VTIMEZONE
BEGIN:VEVENT
DTSTART;VALUE=DATE:20220630
DTEND;VALUE=DATE:20220701
DTSTAMP:20260423T193415
CREATED:20220330T102638Z
LAST-MODIFIED:20220330T102638Z
UID:9776-1656547200-1656633599@www.languagepoint.eu
SUMMARY:CB A2 Key (KET) - 30 June 2022
DESCRIPTION:Cambridge Assessment English A2 Key (KET) – date: 30 June 2022. \nComputer-based session. \nVenue: IT237\, Language Point\, Milan\, Italy.
URL:https://www.languagepoint.eu/event/cb-a2-key-ket-30-june-2022/
END:VEVENT
BEGIN:VEVENT
DTSTART;VALUE=DATE:20220714
DTEND;VALUE=DATE:20220715
DTSTAMP:20260423T193415
CREATED:20220330T101913Z
LAST-MODIFIED:20220330T101913Z
UID:9770-1657756800-1657843199@www.languagepoint.eu
SUMMARY:CB A2 Key (KET FS) - 14 July 2022
DESCRIPTION:Cambridge Assessment English A2 Key (KET FS) – date: 14 July 2022. \nComputer-based session. \nVenue: IT237\, Language Point\, Milan\, Italy.
URL:https://www.languagepoint.eu/event/cb-a2-key-ket-fs-14-july-2022/
END:VEVENT
BEGIN:VEVENT
DTSTART;VALUE=DATE:20220723
DTEND;VALUE=DATE:20220724
DTSTAMP:20260423T193415
CREATED:20220330T132404Z
LAST-MODIFIED:20220330T132404Z
UID:9835-1658534400-1658620799@www.languagepoint.eu
SUMMARY:Occupational English Test (OET) - 23 July 2022
DESCRIPTION:Occupational English Test (OET) – date: 23 July 2022. \nPaper-based session. \nVenue: IT0004\, Language Point\, Milan\, Italy.
URL:https://www.languagepoint.eu/event/occupational-english-test-oet-23-july-2022/
END:VEVENT
END:VCALENDAR