BEGIN:VCALENDAR
VERSION:2.0
PRODID:-//Language Point - ECPv5.2.1//NONSGML v1.0//EN
CALSCALE:GREGORIAN
METHOD:PUBLISH
X-WR-CALNAME:Language Point
X-ORIGINAL-URL:https://www.languagepoint.eu
X-WR-CALDESC:Eventi per Language Point
BEGIN:VTIMEZONE
TZID:Europe/Rome
BEGIN:DAYLIGHT
TZOFFSETFROM:+0100
TZOFFSETTO:+0200
TZNAME:CEST
DTSTART:20230326T010000
END:DAYLIGHT
BEGIN:STANDARD
TZOFFSETFROM:+0200
TZOFFSETTO:+0100
TZNAME:CET
DTSTART:20231029T010000
END:STANDARD
END:VTIMEZONE
BEGIN:VEVENT
DTSTART;VALUE=DATE:20231202
DTEND;VALUE=DATE:20231203
DTSTAMP:20260422T201803
CREATED:20230420T155213Z
LAST-MODIFIED:20230420T155213Z
UID:10626-1701475200-1701561599@www.languagepoint.eu
SUMMARY:Occupational English Test (OET) – date: 02 December 2023.  Paper-based session.  Venue: IT0004\, Language Point\, Milan\, Italy.
DESCRIPTION:Occupational English Test (OET) – date: 02 December 2023. \nPaper-based session. \nVenue: IT0004\, Language Point\, Milan\, Italy.
URL:https://www.languagepoint.eu/event/occupationaoet-date-02-december-2023-paper-based-session-venue-it0004-language-point/
END:VEVENT
BEGIN:VEVENT
DTSTART;VALUE=DATE:20231212
DTEND;VALUE=DATE:20231213
DTSTAMP:20260422T201803
CREATED:20230420T155434Z
LAST-MODIFIED:20230420T155522Z
UID:10630-1702339200-1702425599@www.languagepoint.eu
SUMMARY:Occupational English Test (OET) – date: 12 December 2023.  Paper-based session.  Venue: IT0004\, Language Point\, Milan\, Italy.
DESCRIPTION:Occupational English Test (OET) – date: 12 December 2023. \nPaper-based session. \nVenue: IT0004\, Language Point\, Milan\, Italy.
URL:https://www.languagepoint.eu/event/oet-date-12-december-2023-paper-based-session-venue-it0004-language-point/
END:VEVENT
END:VCALENDAR